FILENAME: O4710423.SWS.1134930.tif
QUADRANGLE_NAME: SIDNEY
QUADRANT: SW
WEST_LONGITUDE: -104 15 0.00000
EAST_LONGITUDE: -104 11 15.00000
NORTH_LATITUDE: 47 41 15.00000
SOUTH_LATITUDE: 47 37 30.00000
PRODUCTION_DATE: 2001 3 9
RASTER_ORDER: LEFT_RIGHT/TOP_BOTTOM
BAND_ORGANIZATION: SINGLE FILE
BAND_CONTENT: BLACK&WHITE
BAND_CONTENT: UNDEFINED
BAND_CONTENT: UNDEFINED
BITS_PER_PIXEL: 8
SAMPLES_AND_LINES: 5411 7606
HORIZONTAL_DATUM: NAD83
HORIZONTAL_COORDINATE_SYSTEM: UTM
COORDINATE_ZONE: 13
HORIZONTAL_UNITS: meters
HORIZONTAL_RESOLUTION: 1.00000
SECONDARY_HORIZONTAL_DATUM: NAD27
XY_ORIGIN: 555941.00000 5282195.00000
SECONDARY_XY_ORIGIN: 555979.99100 5281974.74100
NATION: US
STATE: MT
NW_QUAD_CORNER_XY: 556283.51300 5281840.51200
NE_QUAD_CORNER_XY: 560973.77800 5281887.80700
SE_QUAD_CORNERY_XY: 561046.58700 5274941.67400
SW_QUAD_CORNER_XY: 556350.72100 5274894.36900
SECONDARY_NW_QUAD_XY: 556285.27300 5281621.72500
SECONDARY_NE_QUAD_XY: 560975.68400 5281669.02200
SECONDARY_SE_QUAD_XY: 561048.49300 5274722.90700
SECONDARY_SW_QUAD_XY: 556352.48100 5274675.60100
RMSE_XY: 1.52000
IMAGE_SOURCE: BLACK AND WHITE FILM
SOURCE_IMAGE_ID: NAPP 9123-210
SOURCE_IMAGE_DATE: 1997 8 3
SOURCE_IMAGE_ID: NAPP 9123-209
SOURCE_IMAGE_DATE: 1997 8 3
SOURCE_DEM_DATE: 2001 1 1
AGENCY: WESTERN MAPPING CENTER (WMC)
PRODUCER: WOOLPERT LLP
PRODUCTION_SYSTEM: INTERGRAPH ISPM, ISIR
COMPRESSION: UNDEFINED
STANDARD_VERSION: 1996 12
METADATA_DATE: 2001 3 27
DATA_FILE_SIZE: 41161477
BYTE_COUNT: 5411
