FILENAME: O4710422.SWS.1134922.tif
QUADRANGLE_NAME: CRANE NE
QUADRANT: SW
WEST_LONGITUDE: -104 22 30.00000
EAST_LONGITUDE: -104 18 45.00000
NORTH_LATITUDE: 47 41 15.00000
SOUTH_LATITUDE: 47 37 30.00000
PRODUCTION_DATE: 2001 3 14
RASTER_ORDER: LEFT_RIGHT/TOP_BOTTOM
BAND_ORGANIZATION: SINGLE FILE
BAND_CONTENT: BLACK&WHITE
BAND_CONTENT: UNDEFINED
BAND_CONTENT: UNDEFINED
BITS_PER_PIXEL: 8
SAMPLES_AND_LINES: 5400 7598
HORIZONTAL_DATUM: NAD83
HORIZONTAL_COORDINATE_SYSTEM: UTM
COORDINATE_ZONE: 13
HORIZONTAL_UNITS: meters
HORIZONTAL_RESOLUTION: 1.00000
SECONDARY_HORIZONTAL_DATUM: NAD27
XY_ORIGIN: 546560.00000 5282104.00000
SECONDARY_XY_ORIGIN: 546599.12000 5281883.69300
NATION: US
STATE: MT
NW_QUAD_CORNER_XY: 546902.96500 5281757.27300
NE_QUAD_CORNER_XY: 551593.24200 5281797.00000
SE_QUAD_CORNERY_XY: 551654.84900 5274850.84800
SW_QUAD_CORNER_XY: 546958.97100 5274811.11300
SECONDARY_NW_QUAD_XY: 546904.43200 5281538.48300
SECONDARY_NE_QUAD_XY: 551594.85500 5281578.21200
SECONDARY_SE_QUAD_XY: 551656.46200 5274632.07900
SECONDARY_SW_QUAD_XY: 546960.43700 5274592.34200
RMSE_XY: 2.26000
IMAGE_SOURCE: BLACK AND WHITE FILM
SOURCE_IMAGE_ID: NAPP 9095-078
SOURCE_IMAGE_DATE: 1996 7 9
SOURCE_DEM_DATE: 1999 0 0
AGENCY: WESTERN MAPPING CENTER (WMC)
PRODUCER: WOOLPERT LLP
PRODUCTION_SYSTEM: INTERGRAPH ISPM, ISIR
COMPRESSION: UNDEFINED
STANDARD_VERSION: 1996 12
METADATA_DATE: 2001 3 15
DATA_FILE_SIZE: 41034600
BYTE_COUNT: 5400
