FILENAME: O4710421.SES.1163269.tif
QUADRANGLE_NAME: CRANE NW
QUADRANT: SE
WEST_LONGITUDE: -104 26 15.00000
EAST_LONGITUDE: -104 22 30.00000
NORTH_LATITUDE: 47 41 15.00000
SOUTH_LATITUDE: 47 37 30.00000
PRODUCTION_DATE: 2001 9 27
RASTER_ORDER: LEFT_RIGHT/TOP_BOTTOM
BAND_ORGANIZATION: SINGLE FILE
BAND_CONTENT: BLACK&WHITE
BAND_CONTENT: UNDEFINED
BAND_CONTENT: UNDEFINED
BITS_PER_PIXEL: 8
SAMPLES_AND_LINES: 5395 7594
HORIZONTAL_DATUM: NAD83
HORIZONTAL_COORDINATE_SYSTEM: UTM
COORDINATE_ZONE: 13
HORIZONTAL_UNITS: meters
HORIZONTAL_RESOLUTION: 1.00000
SECONDARY_HORIZONTAL_DATUM: NAD27
XY_ORIGIN: 541869.00000 5282064.00000
SECONDARY_XY_ORIGIN: 541908.18400 5281843.66900
NATION: US
STATE: MT
NW_QUAD_CORNER_XY: 542212.68400 5281721.32900
NE_QUAD_CORNER_XY: 546902.96500 5281757.27300
SE_QUAD_CORNERY_XY: 546958.97100 5274811.11300
SW_QUAD_CORNER_XY: 542263.08800 5274775.16200
SECONDARY_NW_QUAD_XY: 542214.00300 5281502.53800
SECONDARY_NE_QUAD_XY: 546904.43200 5281538.48300
SECONDARY_SE_QUAD_XY: 546960.43700 5274592.34200
SECONDARY_SW_QUAD_XY: 542264.40800 5274556.39000
RMSE_XY: 2.30000
IMAGE_SOURCE: BLACK AND WHITE FILM
SOURCE_IMAGE_ID: NAPP 9103-038
SOURCE_IMAGE_DATE: 1996 7 15
SOURCE_DEM_DATE: 1999 0 0
AGENCY: WESTERN MAPPING CENTER (WMC)
PRODUCER: WOOLPERT LLP
PRODUCTION_SYSTEM: INTERGRAPH ISPM, ISIR
COMPRESSION: UNDEFINED
STANDARD_VERSION: 1996 12
METADATA_DATE: 2001 10 17
DATA_FILE_SIZE: 40975025
BYTE_COUNT: 5395
