FILENAME: O4710420.NES.1163255.tif
QUADRANGLE_NAME: LAMBERT
QUADRANT: NE
WEST_LONGITUDE: -104 33 45.00000
EAST_LONGITUDE: -104 30 0.00000
NORTH_LATITUDE: 47 45 0.00000
SOUTH_LATITUDE: 47 41 15.00000
PRODUCTION_DATE: 2001 9 27
RASTER_ORDER: LEFT_RIGHT/TOP_BOTTOM
BAND_ORGANIZATION: SINGLE FILE
BAND_CONTENT: BLACK&WHITE
BAND_CONTENT: UNDEFINED
BAND_CONTENT: UNDEFINED
BITS_PER_PIXEL: 8
SAMPLES_AND_LINES: 5379 7588
HORIZONTAL_DATUM: NAD83
HORIZONTAL_COORDINATE_SYSTEM: UTM
COORDINATE_ZONE: 13
HORIZONTAL_UNITS: meters
HORIZONTAL_RESOLUTION: 1.00000
SECONDARY_HORIZONTAL_DATUM: NAD27
XY_ORIGIN: 532449.00000 5288943.00000
SECONDARY_XY_ORIGIN: 532488.27600 5288722.56500
NATION: US
STATE: MT
NW_QUAD_CORNER_XY: 532792.86400 5288607.04700
NE_QUAD_CORNER_XY: 537477.54800 5288635.41700
SE_QUAD_CORNERY_XY: 537522.39700 5281689.16900
SW_QUAD_CORNER_XY: 532832.10600 5281660.79200
SECONDARY_NW_QUAD_XY: 532793.89000 5288388.23500
SECONDARY_NE_QUAD_XY: 537478.72100 5288416.60700
SECONDARY_SE_QUAD_XY: 537523.57000 5281470.37700
SECONDARY_SW_QUAD_XY: 532833.13300 5281441.99900
RMSE_XY: 2.00000
IMAGE_SOURCE: BLACK AND WHITE FILM
SOURCE_IMAGE_ID: NAPP 9082-062
SOURCE_IMAGE_DATE: 1996 6 12
SOURCE_DEM_DATE: 1999 0 0
AGENCY: WESTERN MAPPING CENTER (WMC)
PRODUCER: WOOLPERT LLP
PRODUCTION_SYSTEM: INTERGRAPH ISPM, ISIR
COMPRESSION: UNDEFINED
STANDARD_VERSION: 1996 12
METADATA_DATE: 2001 10 17
DATA_FILE_SIZE: 40821231
BYTE_COUNT: 5379
