FILENAME: O4710420.SWS.1163258.tif
QUADRANGLE_NAME: LAMBERT
QUADRANT: SW
WEST_LONGITUDE: -104 37 30.00000
EAST_LONGITUDE: -104 33 45.00000
NORTH_LATITUDE: 47 41 15.00000
SOUTH_LATITUDE: 47 37 30.00000
PRODUCTION_DATE: 2001 9 27
RASTER_ORDER: LEFT_RIGHT/TOP_BOTTOM
BAND_ORGANIZATION: SINGLE FILE
BAND_CONTENT: BLACK&WHITE
BAND_CONTENT: UNDEFINED
BAND_CONTENT: UNDEFINED
BITS_PER_PIXEL: 8
SAMPLES_AND_LINES: 5379 7583
HORIZONTAL_DATUM: NAD83
HORIZONTAL_COORDINATE_SYSTEM: UTM
COORDINATE_ZONE: 13
HORIZONTAL_UNITS: meters
HORIZONTAL_RESOLUTION: 1.00000
SECONDARY_HORIZONTAL_DATUM: NAD27
XY_ORIGIN: 527798.00000 5281968.00000
SECONDARY_XY_ORIGIN: 527837.35200 5281747.60000
NATION: US
STATE: MT
NW_QUAD_CORNER_XY: 528141.81200 5281636.19900
NE_QUAD_CORNER_XY: 532832.10600 5281660.79200
SE_QUAD_CORNERY_XY: 532871.31000 5274714.61300
SW_QUAD_CORNER_XY: 528175.41500 5274690.01600
SECONDARY_NW_QUAD_XY: 528142.69200 5281417.40600
SECONDARY_NE_QUAD_XY: 532833.13300 5281441.99900
SECONDARY_SE_QUAD_XY: 532872.33600 5274495.84000
SECONDARY_SW_QUAD_XY: 528176.29500 5274471.24200
RMSE_XY: 2.30000
IMAGE_SOURCE: BLACK AND WHITE FILM
SOURCE_IMAGE_ID: NAPP 9082-049
SOURCE_IMAGE_DATE: 1996 6 12
SOURCE_DEM_DATE: 1999 0 0
AGENCY: WESTERN MAPPING CENTER (WMC)
PRODUCER: WOOLPERT LLP
PRODUCTION_SYSTEM: INTERGRAPH ISPM, ISIR
COMPRESSION: UNDEFINED
STANDARD_VERSION: 1996 12
METADATA_DATE: 2001 10 17
DATA_FILE_SIZE: 40794336
BYTE_COUNT: 5379
