FILENAME: O4710417.NES.1163218.tif
QUADRANGLE_NAME: KUESTER LAKE
QUADRANT: NE
WEST_LONGITUDE: -104 56 15.00000
EAST_LONGITUDE: -104 52 30.00000
NORTH_LATITUDE: 47 45 0.00000
SOUTH_LATITUDE: 47 41 15.00000
PRODUCTION_DATE: 2001 9 27
RASTER_ORDER: LEFT_RIGHT/TOP_BOTTOM
BAND_ORGANIZATION: SINGLE FILE
BAND_CONTENT: BLACK&WHITE
BAND_CONTENT: UNDEFINED
BAND_CONTENT: UNDEFINED
BITS_PER_PIXEL: 8
SAMPLES_AND_LINES: 5346 7565
HORIZONTAL_DATUM: NAD83
HORIZONTAL_COORDINATE_SYSTEM: UTM
COORDINATE_ZONE: 13
HORIZONTAL_UNITS: meters
HORIZONTAL_RESOLUTION: 1.00000
SECONDARY_HORIZONTAL_DATUM: NAD27
XY_ORIGIN: 504340.00000 5288829.00000
SECONDARY_XY_ORIGIN: 504379.56700 5288608.41900
NATION: US
STATE: MT
NW_QUAD_CORNER_XY: 504684.69900 5288516.26200
NE_QUAD_CORNER_XY: 509369.39800 5288521.93600
SE_QUAD_CORNERY_XY: 509380.61000 5281575.66400
SW_QUAD_CORNER_XY: 504690.30500 5281569.98900
SECONDARY_NW_QUAD_XY: 504684.84600 5288297.44700
SECONDARY_NE_QUAD_XY: 509369.69100 5288303.12200
SECONDARY_SE_QUAD_XY: 509380.90300 5281356.86800
SECONDARY_SW_QUAD_XY: 504690.45200 5281351.19300
RMSE_XY: 2.10000
IMAGE_SOURCE: BLACK AND WHITE FILM
SOURCE_IMAGE_ID: NAPP 9124-154
SOURCE_IMAGE_DATE: 1997 8 22
SOURCE_DEM_DATE: 1999 0 0
AGENCY: WESTERN MAPPING CENTER (WMC)
PRODUCER: WOOLPERT LLP
PRODUCTION_SYSTEM: INTERGRAPH ISPM, ISIR
COMPRESSION: UNDEFINED
STANDARD_VERSION: 1996 12
METADATA_DATE: 2001 10 17
DATA_FILE_SIZE: 40447836
BYTE_COUNT: 5346
