FILENAME: O4710417.NWS.1163219.tif
QUADRANGLE_NAME: KUESTER LAKE
QUADRANT: NW
WEST_LONGITUDE: -105 0 0.00000
EAST_LONGITUDE: -104 56 15.00000
NORTH_LATITUDE: 47 45 0.00000
SOUTH_LATITUDE: 47 41 15.00000
PRODUCTION_DATE: 2001 9 27
RASTER_ORDER: LEFT_RIGHT/TOP_BOTTOM
BAND_ORGANIZATION: SINGLE FILE
BAND_CONTENT: BLACK&WHITE
BAND_CONTENT: UNDEFINED
BAND_CONTENT: UNDEFINED
BITS_PER_PIXEL: 8
SAMPLES_AND_LINES: 5341 7561
HORIZONTAL_DATUM: NAD83
HORIZONTAL_COORDINATE_SYSTEM: UTM
COORDINATE_ZONE: 13
HORIZONTAL_UNITS: meters
HORIZONTAL_RESOLUTION: 1.00000
SECONDARY_HORIZONTAL_DATUM: NAD27
XY_ORIGIN: 499655.00000 5288824.00000
SECONDARY_XY_ORIGIN: 499694.61600 5288603.39600
NATION: US
STATE: MT
NW_QUAD_CORNER_XY: 500000.00000 5288514.37100
NE_QUAD_CORNER_XY: 504684.69900 5288516.26200
SE_QUAD_CORNERY_XY: 504690.30500 5281569.98900
SW_QUAD_CORNER_XY: 500000.00000 5281568.09700
SECONDARY_NW_QUAD_XY: 500000.00000 5288295.55600
SECONDARY_NE_QUAD_XY: 504684.84600 5288297.44700
SECONDARY_SE_QUAD_XY: 504690.45200 5281351.19300
SECONDARY_SW_QUAD_XY: 500000.00000 5281349.30100
RMSE_XY: 2.15000
IMAGE_SOURCE: BLACK AND WHITE FILM
SOURCE_IMAGE_ID: NAPP 9096-101
SOURCE_IMAGE_DATE: 1996 7 9
SOURCE_DEM_DATE: 1999 0 0
AGENCY: WESTERN MAPPING CENTER (WMC)
PRODUCER: WOOLPERT LLP
PRODUCTION_SYSTEM: INTERGRAPH ISPM, ISIR
COMPRESSION: UNDEFINED
STANDARD_VERSION: 1996 12
METADATA_DATE: 2001 10 17
DATA_FILE_SIZE: 40388642
BYTE_COUNT: 5341
