FILENAME: O4710416.NWS.978706.tif
QUADRANGLE_NAME: FAIRVIEW
QUADRANT: NW
WEST_LONGITUDE: -104 7 30.00000
EAST_LONGITUDE: -104 3 45.00000
NORTH_LATITUDE: 47 52 30.00000
SOUTH_LATITUDE: 47 48 45.00000
PRODUCTION_DATE: 1999 03 23
RASTER_ORDER: LEFT_RIGHT/TOP_BOTTOM
BAND_ORGANIZATION: SINGLE FILE
BAND_CONTENT: BLACK&WHITE
BAND_CONTENT: UNDEFINED
BAND_CONTENT: UNDEFINED
BITS_PER_PIXEL: 8
SAMPLES_AND_LINES: 5394 7602
HORIZONTAL_DATUM: NAD83
HORIZONTAL_COORDINATE_SYSTEM: UTM
COORDINATE_ZONE: 13
HORIZONTAL_UNITS: METERS
HORIZONTAL_RESOLUTION: 1.00000
SECONDARY_HORIZONTAL_DATUM: NAD27
XY_ORIGIN: 565092.50000 5303133.50000
SECONDARY_XY_ORIGIN: 565131.37400 5302913.02700
NATION: US
STATE: MT
NW_QUAD_CORNER_XY: 565428.33200 5302777.70400
NE_QUAD_CORNER_XY: 570101.74500 5302832.53300
SE_QUAD_CORNERY_XY: 570186.01000 5295886.19900
SW_QUAD_CORNER_XY: 565506.97900 5295831.35800
SECONDARY_NW_QUAD_XY: 565430.38600 5302558.86600
SECONDARY_NE_QUAD_XY: 570103.94500 5302613.69700
SECONDARY_SE_QUAD_XY: 570188.21000 5295667.38000
SECONDARY_SW_QUAD_XY: 565509.03200 5295612.53700
RMSE_XY: 2.66000
IMAGE_SOURCE: BLACK & WHITE FILM
SOURCE_IMAGE_ID: NAPP 8631 040
SOURCE_IMAGE_DATE: 1995 07 28
SOURCE_DEM_DATE: 1998 01 01
AGENCY: WESTERN MAPPING CENTER (WMC)
PRODUCER: ATLANTIC TECHNOLOGIES
PRODUCTION_SYSTEM: INTERGRAPH MODEL_SETUP, BASE_RECTIFIER
COMPRESSION: UNDEFINED
STANDARD_VERSION: 1996 12
METADATA_DATE: 1999 01 06
DATA_FILE_SIZE: 41010582
BYTE_COUNT: 5394
