FILENAME: O4710414.SES.1134917.tif
QUADRANGLE_NAME: BRORSON
QUADRANT: SE
WEST_LONGITUDE: -104 18 45.00000
EAST_LONGITUDE: -104 15 0.00000
NORTH_LATITUDE: 47 48 45.00000
SOUTH_LATITUDE: 47 45 0.00000
PRODUCTION_DATE: 2001 3 14
RASTER_ORDER: LEFT_RIGHT/TOP_BOTTOM
BAND_ORGANIZATION: SINGLE FILE
BAND_CONTENT: BLACK&WHITE
BAND_CONTENT: UNDEFINED
BAND_CONTENT: UNDEFINED
BITS_PER_PIXEL: 8
SAMPLES_AND_LINES: 5395 7602
HORIZONTAL_DATUM: NAD83
HORIZONTAL_COORDINATE_SYSTEM: UTM
COORDINATE_ZONE: 13
HORIZONTAL_UNITS: meters
HORIZONTAL_RESOLUTION: 1.00000
SECONDARY_HORIZONTAL_DATUM: NAD27
XY_ORIGIN: 551127.00000 5296040.00000
SECONDARY_XY_ORIGIN: 551166.04300 5295819.58900
NATION: US
STATE: MT
NW_QUAD_CORNER_XY: 551469.84300 5295689.52900
NE_QUAD_CORNER_XY: 556148.89500 5295733.02200
SE_QUAD_CORNERY_XY: 556216.23800 5288786.73000
SW_QUAD_CORNER_XY: 551531.57300 5288743.22700
SECONDARY_NW_QUAD_XY: 551471.45600 5295470.70400
SECONDARY_NE_QUAD_XY: 556150.65500 5295514.19900
SECONDARY_SE_QUAD_XY: 556217.99800 5288567.92400
SECONDARY_SW_QUAD_XY: 551533.18700 5288524.42000
RMSE_XY: 1.66000
IMAGE_SOURCE: BLACK AND WHITE FILM
SOURCE_IMAGE_ID: NAPP 9124-064
SOURCE_IMAGE_DATE: 1997 8 22
SOURCE_DEM_DATE: 1999 0 0
AGENCY: WESTERN MAPPING CENTER (WMC)
PRODUCER: WOOLPERT LLP
PRODUCTION_SYSTEM: INTERGRAPH ISPM, ISIR
COMPRESSION: UNDEFINED
STANDARD_VERSION: 1996 12
METADATA_DATE: 2001 3 15
DATA_FILE_SIZE: 41018185
BYTE_COUNT: 5395
