FILENAME: O4710413.SWS.1163266.tif
QUADRANGLE_NAME: GIRARD
QUADRANT: SW
WEST_LONGITUDE: -104 30 0.00000
EAST_LONGITUDE: -104 26 15.00000
NORTH_LATITUDE: 47 48 45.00000
SOUTH_LATITUDE: 47 45 0.00000
PRODUCTION_DATE: 2001 9 27
RASTER_ORDER: LEFT_RIGHT/TOP_BOTTOM
BAND_ORGANIZATION: SINGLE FILE
BAND_CONTENT: BLACK&WHITE
BAND_CONTENT: UNDEFINED
BAND_CONTENT: UNDEFINED
BITS_PER_PIXEL: 8
SAMPLES_AND_LINES: 5379 7591
HORIZONTAL_DATUM: NAD83
HORIZONTAL_COORDINATE_SYSTEM: UTM
COORDINATE_ZONE: 13
HORIZONTAL_UNITS: meters
HORIZONTAL_RESOLUTION: 1.00000
SECONDARY_HORIZONTAL_DATUM: NAD27
XY_ORIGIN: 537089.00000 5295921.00000
SECONDARY_XY_ORIGIN: 537128.22200 5295700.51300
NATION: US
STATE: MT
NW_QUAD_CORNER_XY: 537432.65400 5295581.74200
NE_QUAD_CORNER_XY: 542111.72200 5295613.88800
SE_QUAD_CORNERY_XY: 542162.22800 5288667.57100
SW_QUAD_CORNER_XY: 537477.54800 5288635.41700
SECONDARY_NW_QUAD_XY: 537433.82700 5295362.91300
SECONDARY_NE_QUAD_XY: 542113.04200 5295395.06100
SECONDARY_SE_QUAD_XY: 542163.54800 5288448.76100
SECONDARY_SW_QUAD_XY: 537478.72100 5288416.60700
RMSE_XY: 2.15000
IMAGE_SOURCE: BLACK AND WHITE FILM
SOURCE_IMAGE_ID: NAPP 9107-031
SOURCE_IMAGE_DATE: 1996 8 7
SOURCE_DEM_DATE: 1999 0 0
AGENCY: WESTERN MAPPING CENTER (WMC)
PRODUCER: WOOLPERT LLP
PRODUCTION_SYSTEM: INTERGRAPH ISPM, ISIR
COMPRESSION: UNDEFINED
STANDARD_VERSION: 1996 12
METADATA_DATE: 2001 10 17
DATA_FILE_SIZE: 40837368
BYTE_COUNT: 5379
