FILENAME: O4710412.SWS.1163254.tif
QUADRANGLE_NAME: THREE BUTTES CREEK EAST
QUADRANT: SW
WEST_LONGITUDE: -104 37 30.00000
EAST_LONGITUDE: -104 33 45.00000
NORTH_LATITUDE: 47 48 45.00000
SOUTH_LATITUDE: 47 45 0.00000
PRODUCTION_DATE: 2001 9 27
RASTER_ORDER: LEFT_RIGHT/TOP_BOTTOM
BAND_ORGANIZATION: SINGLE FILE
BAND_CONTENT: BLACK&WHITE
BAND_CONTENT: UNDEFINED
BAND_CONTENT: UNDEFINED
BITS_PER_PIXEL: 8
SAMPLES_AND_LINES: 5367 7584
HORIZONTAL_DATUM: NAD83
HORIZONTAL_COORDINATE_SYSTEM: UTM
COORDINATE_ZONE: 13
HORIZONTAL_UNITS: meters
HORIZONTAL_RESOLUTION: 1.00000
SECONDARY_HORIZONTAL_DATUM: NAD27
XY_ORIGIN: 527731.00000 5295861.00000
SECONDARY_XY_ORIGIN: 527770.30700 5295640.46400
NATION: US
STATE: MT
NW_QUAD_CORNER_XY: 528074.50600 5295528.79400
NE_QUAD_CORNER_XY: 532753.58200 5295553.37700
SE_QUAD_CORNERY_XY: 532792.86400 5288607.04700
SW_QUAD_CORNER_XY: 528108.17600 5288582.45900
SECONDARY_NW_QUAD_XY: 528075.38600 5295309.96400
SECONDARY_NE_QUAD_XY: 532754.60800 5295334.54800
SECONDARY_SE_QUAD_XY: 532793.89000 5288388.23500
SECONDARY_SW_QUAD_XY: 528109.05600 5288363.64700
RMSE_XY: 2.44000
IMAGE_SOURCE: BLACK AND WHITE FILM
SOURCE_IMAGE_ID: NAPP 9124-134
SOURCE_IMAGE_DATE: 1997 8 22
SOURCE_DEM_DATE: 1999 0 0
AGENCY: WESTERN MAPPING CENTER (WMC)
PRODUCER: WOOLPERT LLP
PRODUCTION_SYSTEM: INTERGRAPH ISPM, ISIR
COMPRESSION: UNDEFINED
STANDARD_VERSION: 1996 12
METADATA_DATE: 2001 10 17
DATA_FILE_SIZE: 40708695
BYTE_COUNT: 5367
