FILENAME: O4710411.SWS.1163241.tif
QUADRANGLE_NAME: THREE BUTTES CREEK WEST
QUADRANT: SW
WEST_LONGITUDE: -104 45 0.00000
EAST_LONGITUDE: -104 41 15.00000
NORTH_LATITUDE: 47 48 45.00000
SOUTH_LATITUDE: 47 45 0.00000
PRODUCTION_DATE: 2001 9 27
RASTER_ORDER: LEFT_RIGHT/TOP_BOTTOM
BAND_ORGANIZATION: SINGLE FILE
BAND_CONTENT: BLACK&WHITE
BAND_CONTENT: UNDEFINED
BAND_CONTENT: UNDEFINED
BITS_PER_PIXEL: 8
SAMPLES_AND_LINES: 5357 7576
HORIZONTAL_DATUM: NAD83
HORIZONTAL_COORDINATE_SYSTEM: UTM
COORDINATE_ZONE: 13
HORIZONTAL_UNITS: meters
HORIZONTAL_RESOLUTION: 1.00000
SECONDARY_HORIZONTAL_DATUM: NAD27
XY_ORIGIN: 518372.00000 5295815.00000
SECONDARY_XY_ORIGIN: 518411.39300 5295594.41400
NATION: US
STATE: MT
NW_QUAD_CORNER_XY: 518716.34400 5295490.97500
NE_QUAD_CORNER_XY: 523395.42600 5295507.99400
SE_QUAD_CORNERY_XY: 523423.48500 5288561.65400
SW_QUAD_CORNER_XY: 518738.79100 5288544.63200
SECONDARY_NW_QUAD_XY: 518716.93100 5295272.14400
SECONDARY_NE_QUAD_XY: 523396.16000 5295289.16300
SECONDARY_SE_QUAD_XY: 523424.21800 5288342.84100
SECONDARY_SW_QUAD_XY: 518739.37700 5288325.81800
RMSE_XY: 1.99000
IMAGE_SOURCE: BLACK AND WHITE FILM
SOURCE_IMAGE_ID: NAPP 9080-171
SOURCE_IMAGE_DATE: 1996 6 12
SOURCE_IMAGE_ID: NAPP 9080-172
SOURCE_IMAGE_DATE: 1996 6 12
SOURCE_DEM_DATE: 1999 0 0
AGENCY: WESTERN MAPPING CENTER (WMC)
PRODUCER: WOOLPERT LLP
PRODUCTION_SYSTEM: INTERGRAPH ISPM, ISIR
COMPRESSION: UNDEFINED
STANDARD_VERSION: 1996 12
METADATA_DATE: 2001 10 17
DATA_FILE_SIZE: 40589989
BYTE_COUNT: 5357
