FILENAME: O4710410.SES.1163228.tif
QUADRANGLE_NAME: CARDA COULEE
QUADRANT: SE
WEST_LONGITUDE: -104 48 45.00000
EAST_LONGITUDE: -104 45 0.00000
NORTH_LATITUDE: 47 48 45.00000
SOUTH_LATITUDE: 47 45 0.00000
PRODUCTION_DATE: 2001 9 27
RASTER_ORDER: LEFT_RIGHT/TOP_BOTTOM
BAND_ORGANIZATION: SINGLE FILE
BAND_CONTENT: BLACK&WHITE
BAND_CONTENT: UNDEFINED
BAND_CONTENT: UNDEFINED
BITS_PER_PIXEL: 8
SAMPLES_AND_LINES: 5351 7572
HORIZONTAL_DATUM: NAD83
HORIZONTAL_COORDINATE_SYSTEM: UTM
COORDINATE_ZONE: 13
HORIZONTAL_UNITS: meters
HORIZONTAL_RESOLUTION: 1.00000
SECONDARY_HORIZONTAL_DATUM: NAD27
XY_ORIGIN: 513693.00000 5295798.00000
SECONDARY_XY_ORIGIN: 513732.43800 5295577.38800
NATION: US
STATE: MT
NW_QUAD_CORNER_XY: 514037.26000 5295477.73800
NE_QUAD_CORNER_XY: 518716.34400 5295490.97500
SE_QUAD_CORNERY_XY: 518738.79100 5288544.63200
SW_QUAD_CORNER_XY: 514054.09500 5288531.39300
SECONDARY_NW_QUAD_XY: 514037.70000 5295258.90700
SECONDARY_NE_QUAD_XY: 518716.93100 5295272.14400
SECONDARY_SE_QUAD_XY: 518739.37700 5288325.81800
SECONDARY_SW_QUAD_XY: 514054.53500 5288312.57900
RMSE_XY: 2.44000
IMAGE_SOURCE: BLACK AND WHITE FILM
SOURCE_IMAGE_ID: NAPP 9081-046
SOURCE_IMAGE_DATE: 1996 6 12
SOURCE_DEM_DATE: 1999 0 0
AGENCY: WESTERN MAPPING CENTER (WMC)
PRODUCER: WOOLPERT LLP
PRODUCTION_SYSTEM: INTERGRAPH ISPM, ISIR
COMPRESSION: UNDEFINED
STANDARD_VERSION: 1996 12
METADATA_DATE: 2001 10 17
DATA_FILE_SIZE: 40523123
BYTE_COUNT: 5351
