FILENAME: O4710410.SWS.1163229.tif
QUADRANGLE_NAME: CARDA COULEE
QUADRANT: SW
WEST_LONGITUDE: -104 52 30.00000
EAST_LONGITUDE: -104 48 45.00000
NORTH_LATITUDE: 47 48 45.00000
SOUTH_LATITUDE: 47 45 0.00000
PRODUCTION_DATE: 2001 9 27
RASTER_ORDER: LEFT_RIGHT/TOP_BOTTOM
BAND_ORGANIZATION: SINGLE FILE
BAND_CONTENT: BLACK&WHITE
BAND_CONTENT: UNDEFINED
BAND_CONTENT: UNDEFINED
BITS_PER_PIXEL: 8
SAMPLES_AND_LINES: 5347 7569
HORIZONTAL_DATUM: NAD83
HORIZONTAL_COORDINATE_SYSTEM: UTM
COORDINATE_ZONE: 13
HORIZONTAL_UNITS: meters
HORIZONTAL_RESOLUTION: 1.00000
SECONDARY_HORIZONTAL_DATUM: NAD27
XY_ORIGIN: 509013.00000 5295785.00000
SECONDARY_XY_ORIGIN: 509052.48400 5295564.36200
NATION: US
STATE: MT
NW_QUAD_CORNER_XY: 509358.17400 5295468.28400
NE_QUAD_CORNER_XY: 514037.26000 5295477.73800
SE_QUAD_CORNERY_XY: 514054.09500 5288531.39300
SW_QUAD_CORNER_XY: 509369.39800 5288521.93600
SECONDARY_NW_QUAD_XY: 509358.46800 5295249.45200
SECONDARY_NE_QUAD_XY: 514037.70000 5295258.90700
SECONDARY_SE_QUAD_XY: 514054.53500 5288312.57900
SECONDARY_SW_QUAD_XY: 509369.69100 5288303.12200
RMSE_XY: 2.80000
IMAGE_SOURCE: BLACK AND WHITE FILM
SOURCE_IMAGE_ID: NAPP 9124-141
SOURCE_IMAGE_DATE: 1997 8 22
SOURCE_DEM_DATE: 1999 0 0
AGENCY: WESTERN MAPPING CENTER (WMC)
PRODUCER: WOOLPERT LLP
PRODUCTION_SYSTEM: INTERGRAPH ISPM, ISIR
COMPRESSION: UNDEFINED
STANDARD_VERSION: 1996 12
METADATA_DATE: 2001 10 17
DATA_FILE_SIZE: 40476790
BYTE_COUNT: 5347
