FILENAME: O4710409.SES.1163216.tif
QUADRANGLE_NAME: ELMDALE SW
QUADRANT: SE
WEST_LONGITUDE: -104 56 15.00000
EAST_LONGITUDE: -104 52 30.00000
NORTH_LATITUDE: 47 48 45.00000
SOUTH_LATITUDE: 47 45 0.00000
PRODUCTION_DATE: 2001 9 27
RASTER_ORDER: LEFT_RIGHT/TOP_BOTTOM
BAND_ORGANIZATION: SINGLE FILE
BAND_CONTENT: BLACK&WHITE
BAND_CONTENT: UNDEFINED
BAND_CONTENT: UNDEFINED
BITS_PER_PIXEL: 8
SAMPLES_AND_LINES: 5341 7565
HORIZONTAL_DATUM: NAD83
HORIZONTAL_COORDINATE_SYSTEM: UTM
COORDINATE_ZONE: 13
HORIZONTAL_UNITS: meters
HORIZONTAL_RESOLUTION: 1.00000
SECONDARY_HORIZONTAL_DATUM: NAD27
XY_ORIGIN: 504334.00000 5295776.00000
SECONDARY_XY_ORIGIN: 504373.52900 5295555.33500
NATION: US
STATE: MT
NW_QUAD_CORNER_XY: 504679.08700 5295462.61100
NE_QUAD_CORNER_XY: 509358.17400 5295468.28400
SE_QUAD_CORNERY_XY: 509369.39800 5288521.93600
SW_QUAD_CORNER_XY: 504684.69900 5288516.26200
SECONDARY_NW_QUAD_XY: 504679.23400 5295243.77900
SECONDARY_NE_QUAD_XY: 509358.46800 5295249.45200
SECONDARY_SE_QUAD_XY: 509369.69100 5288303.12200
SECONDARY_SW_QUAD_XY: 504684.84600 5288297.44700
RMSE_XY: 2.55000
IMAGE_SOURCE: BLACK AND WHITE FILM
SOURCE_IMAGE_ID: NAPP 9124-152
SOURCE_IMAGE_DATE: 1997 8 22
SOURCE_DEM_DATE: 1999 0 0
AGENCY: WESTERN MAPPING CENTER (WMC)
PRODUCER: WOOLPERT LLP
PRODUCTION_SYSTEM: INTERGRAPH ISPM, ISIR
COMPRESSION: UNDEFINED
STANDARD_VERSION: 1996 12
METADATA_DATE: 2001 10 17
DATA_FILE_SIZE: 40410006
BYTE_COUNT: 5341
