FILENAME: O4710407.NES.1134897.tif
QUADRANGLE_NAME: FAIRVIEW NW
QUADRANT: NE
WEST_LONGITUDE: -104 11 15.00000
EAST_LONGITUDE: -104 7 30.00000
NORTH_LATITUDE: 48 0 0.00000
SOUTH_LATITUDE: 47 56 15.00000
PRODUCTION_DATE: 2001 3 9
RASTER_ORDER: LEFT_RIGHT/TOP_BOTTOM
BAND_ORGANIZATION: SINGLE FILE
BAND_CONTENT: BLACK&WHITE
BAND_CONTENT: UNDEFINED
BAND_CONTENT: UNDEFINED
BITS_PER_PIXEL: 8
SAMPLES_AND_LINES: 5389 7610
HORIZONTAL_DATUM: NAD83
HORIZONTAL_COORDINATE_SYSTEM: UTM
COORDINATE_ZONE: 13
HORIZONTAL_UNITS: meters
HORIZONTAL_RESOLUTION: 1.00000
SECONDARY_HORIZONTAL_DATUM: NAD27
XY_ORIGIN: 560266.00000 5316978.00000
SECONDARY_XY_ORIGIN: 560304.93400 5316757.36600
NATION: US
STATE: MT
NW_QUAD_CORNER_XY: 560608.63700 5316619.59300
NE_QUAD_CORNER_XY: 565270.80400 5316670.61800
SE_QUAD_CORNERY_XY: 565349.60700 5309724.12400
SW_QUAD_CORNER_XY: 560681.81100 5309673.08700
SECONDARY_NW_QUAD_XY: 560610.54400 5316400.72300
SECONDARY_NE_QUAD_XY: 565272.85800 5316451.74900
SECONDARY_SE_QUAD_XY: 565351.66100 5309505.27000
SECONDARY_SW_QUAD_XY: 560683.71800 5309454.23200
RMSE_XY: 2.36000
IMAGE_SOURCE: BLACK AND WHITE FILM
SOURCE_IMAGE_ID: NAPP 9123-133
SOURCE_IMAGE_DATE: 1997 8 3
SOURCE_IMAGE_ID: NAPP 9123-134
SOURCE_IMAGE_DATE: 1997 8 3
SOURCE_IMAGE_ID: NAPP 9123-199
SOURCE_IMAGE_DATE: 1997 8 3
SOURCE_DEM_DATE: 2001 1 1
AGENCY: WESTERN MAPPING CENTER (WMC)
PRODUCER: WOOLPERT LLP
PRODUCTION_SYSTEM: INTERGRAPH ISPM, ISIR
COMPRESSION: UNDEFINED
STANDARD_VERSION: 1996 12
METADATA_DATE: 2001 3 28
DATA_FILE_SIZE: 41015679
BYTE_COUNT: 5389
