FILENAME: O4710407.NWS.1134898.tif
QUADRANGLE_NAME: FAIRVIEW NW
QUADRANT: NW
WEST_LONGITUDE: -104 15 0.00000
EAST_LONGITUDE: -104 11 15.00000
NORTH_LATITUDE: 48 0 0.00000
SOUTH_LATITUDE: 47 56 15.00000
PRODUCTION_DATE: 2001 3 9
RASTER_ORDER: LEFT_RIGHT/TOP_BOTTOM
BAND_ORGANIZATION: SINGLE FILE
BAND_CONTENT: BLACK&WHITE
BAND_CONTENT: UNDEFINED
BAND_CONTENT: UNDEFINED
BITS_PER_PIXEL: 8
SAMPLES_AND_LINES: 5383 7607
HORIZONTAL_DATUM: NAD83
HORIZONTAL_COORDINATE_SYSTEM: UTM
COORDINATE_ZONE: 13
HORIZONTAL_UNITS: meters
HORIZONTAL_RESOLUTION: 1.00000
SECONDARY_HORIZONTAL_DATUM: NAD27
XY_ORIGIN: 555604.00000 5316927.00000
SECONDARY_XY_ORIGIN: 555642.99700 5316706.37900
NATION: US
STATE: MT
NW_QUAD_CORNER_XY: 555946.46300 5316572.34800
NE_QUAD_CORNER_XY: 560608.63700 5316619.59300
SE_QUAD_CORNERY_XY: 560681.81100 5309673.08700
SW_QUAD_CORNER_XY: 556014.00700 5309625.83100
SECONDARY_NW_QUAD_XY: 555948.22300 5316353.47600
SECONDARY_NE_QUAD_XY: 560610.54400 5316400.72300
SECONDARY_SE_QUAD_XY: 560683.71800 5309454.23200
SECONDARY_SW_QUAD_XY: 556015.76800 5309406.97500
RMSE_XY: 2.46000
IMAGE_SOURCE: BLACK AND WHITE FILM
SOURCE_IMAGE_ID: NAPP 9123-200
SOURCE_IMAGE_DATE: 1997 8 3
SOURCE_IMAGE_ID: NAPP 9123-199
SOURCE_IMAGE_DATE: 1997 8 3
SOURCE_DEM_DATE: 2001 1 1
AGENCY: WESTERN MAPPING CENTER (WMC)
PRODUCER: WOOLPERT LLP
PRODUCTION_SYSTEM: INTERGRAPH ISPM, ISIR
COMPRESSION: UNDEFINED
STANDARD_VERSION: 1996 12
METADATA_DATE: 2001 3 28
DATA_FILE_SIZE: 40953864
BYTE_COUNT: 5383
