FILENAME: O4710406.NES.1134885.tif
QUADRANGLE_NAME: SIOUX PASS
QUADRANT: NE
WEST_LONGITUDE: -104 18 45.00000
EAST_LONGITUDE: -104 15 0.00000
NORTH_LATITUDE: 48 0 0.00000
SOUTH_LATITUDE: 47 56 15.00000
PRODUCTION_DATE: 2001 3 15
RASTER_ORDER: LEFT_RIGHT/TOP_BOTTOM
BAND_ORGANIZATION: SINGLE FILE
BAND_CONTENT: BLACK&WHITE
BAND_CONTENT: UNDEFINED
BAND_CONTENT: UNDEFINED
BITS_PER_PIXEL: 8
SAMPLES_AND_LINES: 5379 7603
HORIZONTAL_DATUM: NAD83
HORIZONTAL_COORDINATE_SYSTEM: UTM
COORDINATE_ZONE: 13
HORIZONTAL_UNITS: meters
HORIZONTAL_RESOLUTION: 1.00000
SECONDARY_HORIZONTAL_DATUM: NAD27
XY_ORIGIN: 550941.00000 5316880.00000
SECONDARY_XY_ORIGIN: 550980.04900 5316659.35500
NATION: US
STATE: MT
NW_QUAD_CORNER_XY: 551284.28200 5316528.88300
NE_QUAD_CORNER_XY: 555946.46300 5316572.34800
SE_QUAD_CORNERY_XY: 556014.00700 5309625.83100
SW_QUAD_CORNER_XY: 551346.19700 5309582.35700
SECONDARY_NW_QUAD_XY: 551285.89500 5316310.01000
SECONDARY_NE_QUAD_XY: 555948.22300 5316353.47600
SECONDARY_SE_QUAD_XY: 556015.76800 5309406.97500
SECONDARY_SW_QUAD_XY: 551347.81100 5309363.49800
RMSE_XY: 2.35000
IMAGE_SOURCE: BLACK AND WHITE FILM
SOURCE_IMAGE_ID: NAPP 9124-070
SOURCE_IMAGE_DATE: 1997 8 22
SOURCE_DEM_DATE: 1999 0 0
AGENCY: WESTERN MAPPING CENTER (WMC)
PRODUCER: WOOLPERT LLP
PRODUCTION_SYSTEM: INTERGRAPH ISPM, ISIR
COMPRESSION: UNDEFINED
STANDARD_VERSION: 1996 12
METADATA_DATE: 2001 3 15
DATA_FILE_SIZE: 40901916
BYTE_COUNT: 5379
