FILENAME: O4710405.SES.1134875.tif
QUADRANGLE_NAME: BLUE HILL
QUADRANT: SE
WEST_LONGITUDE: -104 26 15.00000
EAST_LONGITUDE: -104 22 30.00000
NORTH_LATITUDE: 47 56 15.00000
SOUTH_LATITUDE: 47 52 30.00000
PRODUCTION_DATE: 2001 3 15
RASTER_ORDER: LEFT_RIGHT/TOP_BOTTOM
BAND_ORGANIZATION: SINGLE FILE
BAND_CONTENT: BLACK&WHITE
BAND_CONTENT: UNDEFINED
BAND_CONTENT: UNDEFINED
BITS_PER_PIXEL: 8
SAMPLES_AND_LINES: 5373 7595
HORIZONTAL_DATUM: NAD83
HORIZONTAL_COORDINATE_SYSTEM: UTM
COORDINATE_ZONE: 13
HORIZONTAL_UNITS: meters
HORIZONTAL_RESOLUTION: 1.00000
SECONDARY_HORIZONTAL_DATUM: NAD27
XY_ORIGIN: 541667.00000 5309850.00000
SECONDARY_XY_ORIGIN: 541706.15700 5309629.38600
NATION: US
STATE: MT
NW_QUAD_CORNER_XY: 542010.55800 5309506.74900
NE_QUAD_CORNER_XY: 546678.38100 5309542.66300
SE_QUAD_CORNERY_XY: 546734.61100 5302596.20200
SW_QUAD_CORNER_XY: 542061.16500 5302560.28100
SECONDARY_NW_QUAD_XY: 542011.87900 5309287.88900
SECONDARY_NE_QUAD_XY: 546679.84800 5309323.80300
SECONDARY_SE_QUAD_XY: 546736.07800 5302377.35900
SECONDARY_SW_QUAD_XY: 542062.48600 5302341.43700
RMSE_XY: 1.85000
IMAGE_SOURCE: BLACK AND WHITE FILM
SOURCE_IMAGE_ID: NAPP 9103-046
SOURCE_IMAGE_DATE: 1996 7 15
SOURCE_IMAGE_ID: NAPP 9103-047
SOURCE_IMAGE_DATE: 1996 7 15
SOURCE_DEM_DATE: 1999 0 0
AGENCY: WESTERN MAPPING CENTER (WMC)
PRODUCER: WOOLPERT LLP
PRODUCTION_SYSTEM: INTERGRAPH ISPM, ISIR
COMPRESSION: UNDEFINED
STANDARD_VERSION: 1996 12
METADATA_DATE: 2001 3 29
DATA_FILE_SIZE: 40813308
BYTE_COUNT: 5373
