FILENAME: O4710404.NES.1133046.tif
QUADRANGLE_NAME: ANDES
QUADRANT: NE
WEST_LONGITUDE: -104 33 45.00000
EAST_LONGITUDE: -104 30 0.00000
NORTH_LATITUDE: 48 0 0.00000
SOUTH_LATITUDE: 47 56 15.00000
PRODUCTION_DATE: 2001 3 13
RASTER_ORDER: LEFT_RIGHT/TOP_BOTTOM
BAND_ORGANIZATION: SINGLE FILE
BAND_CONTENT: BLACK&WHITE
BAND_CONTENT: UNDEFINED
BAND_CONTENT: UNDEFINED
BITS_PER_PIXEL: 8
SAMPLES_AND_LINES: 5356 7587
HORIZONTAL_DATUM: NAD83
HORIZONTAL_COORDINATE_SYSTEM: UTM
COORDINATE_ZONE: 13
HORIZONTAL_UNITS: meters
HORIZONTAL_RESOLUTION: 1.00000
SECONDARY_HORIZONTAL_DATUM: NAD27
XY_ORIGIN: 532292.00000 5316728.00000
SECONDARY_XY_ORIGIN: 532331.22900 5316507.26500
NATION: US
STATE: MT
NW_QUAD_CORNER_XY: 532635.50000 5316392.82100
NE_QUAD_CORNER_XY: 537297.70300 5316421.16700
SE_QUAD_CORNERY_XY: 537342.73100 5309474.61600
SW_QUAD_CORNER_XY: 532674.90000 5309446.26400
SECONDARY_NW_QUAD_XY: 532636.52700 5316173.94300
SECONDARY_NE_QUAD_XY: 537298.87700 5316202.29000
SECONDARY_SE_QUAD_XY: 537343.90500 5309255.75500
SECONDARY_SW_QUAD_XY: 532675.92700 5309227.40100
RMSE_XY: 2.21000
IMAGE_SOURCE: BLACK AND WHITE FILM
SOURCE_IMAGE_ID: NAPP 9082-070
SOURCE_IMAGE_DATE: 1996 6 12
SOURCE_DEM_DATE: 1999 0 0
AGENCY: WESTERN MAPPING CENTER (WMC)
PRODUCER: WOOLPERT LLP
PRODUCTION_SYSTEM: INTERGRAPH ISPM, ISIR
COMPRESSION: UNDEFINED
STANDARD_VERSION: 1996 12
METADATA_DATE: 2001 3 13
DATA_FILE_SIZE: 40641328
BYTE_COUNT: 5356
