FILENAME: O4710404.SES.1133048.tif
QUADRANGLE_NAME: ANDES
QUADRANT: SE
WEST_LONGITUDE: -104 33 45.00000
EAST_LONGITUDE: -104 30 0.00000
NORTH_LATITUDE: 47 56 15.00000
SOUTH_LATITUDE: 47 52 30.00000
PRODUCTION_DATE: 2001 3 13
RASTER_ORDER: LEFT_RIGHT/TOP_BOTTOM
BAND_ORGANIZATION: SINGLE FILE
BAND_CONTENT: BLACK&WHITE
BAND_CONTENT: UNDEFINED
BAND_CONTENT: UNDEFINED
BITS_PER_PIXEL: 8
SAMPLES_AND_LINES: 5362 7588
HORIZONTAL_DATUM: NAD83
HORIZONTAL_COORDINATE_SYSTEM: UTM
COORDINATE_ZONE: 13
HORIZONTAL_UNITS: meters
HORIZONTAL_RESOLUTION: 1.00000
SECONDARY_HORIZONTAL_DATUM: NAD27
XY_ORIGIN: 532331.00000 5309782.00000
SECONDARY_XY_ORIGIN: 532370.24200 5309561.33900
NATION: US
STATE: MT
NW_QUAD_CORNER_XY: 532674.90000 5309446.26400
NE_QUAD_CORNER_XY: 537342.73100 5309474.61600
SE_QUAD_CORNERY_XY: 537387.71500 5302528.14100
SW_QUAD_CORNER_XY: 532714.26000 5302499.78300
SECONDARY_NW_QUAD_XY: 532675.92700 5309227.40100
SECONDARY_NE_QUAD_XY: 537343.90500 5309255.75500
SECONDARY_SE_QUAD_XY: 537388.88900 5302309.29600
SECONDARY_SW_QUAD_XY: 532715.28700 5302280.93600
RMSE_XY: 1.77000
IMAGE_SOURCE: BLACK AND WHITE FILM
SOURCE_IMAGE_ID: NAPP 9082-068
SOURCE_IMAGE_DATE: 1996 6 12
SOURCE_DEM_DATE: 1999 0 0
AGENCY: WESTERN MAPPING CENTER (WMC)
PRODUCER: WOOLPERT LLP
PRODUCTION_SYSTEM: INTERGRAPH ISPM, ISIR
COMPRESSION: UNDEFINED
STANDARD_VERSION: 1996 12
METADATA_DATE: 2001 3 13
DATA_FILE_SIZE: 40692218
BYTE_COUNT: 5362
