FILENAME: O4710403.NES.1133034.tif
QUADRANGLE_NAME: ELM COULEE
QUADRANT: NE
WEST_LONGITUDE: -104 41 15.00000
EAST_LONGITUDE: -104 37 30.00000
NORTH_LATITUDE: 48 0 0.00000
SOUTH_LATITUDE: 47 56 15.00000
PRODUCTION_DATE: 2001 3 7
RASTER_ORDER: LEFT_RIGHT/TOP_BOTTOM
BAND_ORGANIZATION: SINGLE FILE
BAND_CONTENT: BLACK&WHITE
BAND_CONTENT: UNDEFINED
BAND_CONTENT: UNDEFINED
BITS_PER_PIXEL: 8
SAMPLES_AND_LINES: 5346 7581
HORIZONTAL_DATUM: NAD83
HORIZONTAL_COORDINATE_SYSTEM: UTM
COORDINATE_ZONE: 13
HORIZONTAL_UNITS: meters
HORIZONTAL_RESOLUTION: 1.00000
SECONDARY_HORIZONTAL_DATUM: NAD27
XY_ORIGIN: 522967.00000 5316676.00000
SECONDARY_XY_ORIGIN: 523006.28100 5316455.21900
NATION: US
STATE: MT
NW_QUAD_CORNER_XY: 523311.08300 5316347.46700
NE_QUAD_CORNER_XY: 527973.29300 5316368.25400
SE_QUAD_CORNERY_XY: 528007.06400 5309421.69200
SW_QUAD_CORNER_XY: 523339.22500 5309400.90000
SECONDARY_NW_QUAD_XY: 523311.81600 5316128.58800
SECONDARY_NE_QUAD_XY: 527974.17300 5316149.37600
SECONDARY_SE_QUAD_XY: 528007.94400 5309202.82900
SECONDARY_SW_QUAD_XY: 523339.95900 5309182.03600
RMSE_XY: 1.89000
IMAGE_SOURCE: BLACK AND WHITE FILM
SOURCE_IMAGE_ID: NAPP 9080-096
SOURCE_IMAGE_DATE: 1996 6 12
SOURCE_DEM_DATE: 1999 0 0
AGENCY: WESTERN MAPPING CENTER (WMC)
PRODUCER: WOOLPERT LLP
PRODUCTION_SYSTEM: INTERGRAPH ISPM, ISIR
COMPRESSION: UNDEFINED
STANDARD_VERSION: 1996 12
METADATA_DATE: 2001 3 7
DATA_FILE_SIZE: 40533372
BYTE_COUNT: 5346
