FILENAME: O4710402.NWS.1133023.tif
QUADRANGLE_NAME: ELMDALE
QUADRANT: NW
WEST_LONGITUDE: -104 52 30.00000
EAST_LONGITUDE: -104 48 45.00000
NORTH_LATITUDE: 48 0 0.00000
SOUTH_LATITUDE: 47 56 15.00000
PRODUCTION_DATE: 2001 3 13
RASTER_ORDER: LEFT_RIGHT/TOP_BOTTOM
BAND_ORGANIZATION: SINGLE FILE
BAND_CONTENT: BLACK&WHITE
BAND_CONTENT: UNDEFINED
BAND_CONTENT: UNDEFINED
BITS_PER_PIXEL: 8
SAMPLES_AND_LINES: 5329 7569
HORIZONTAL_DATUM: NAD83
HORIZONTAL_COORDINATE_SYSTEM: UTM
COORDINATE_ZONE: 13
HORIZONTAL_UNITS: meters
HORIZONTAL_RESOLUTION: 1.00000
SECONDARY_HORIZONTAL_DATUM: NAD27
XY_ORIGIN: 508980.00000 5316625.00000
SECONDARY_XY_ORIGIN: 509019.38100 5316404.12600
NATION: US
STATE: MT
NW_QUAD_CORNER_XY: 509324.43700 5316307.78300
NE_QUAD_CORNER_XY: 513986.65400 5316317.23200
SE_QUAD_CORNERY_XY: 514003.54000 5309370.65800
SW_QUAD_CORNER_XY: 509335.69400 5309361.20700
SECONDARY_NW_QUAD_XY: 509324.73100 5316088.90300
SECONDARY_NE_QUAD_XY: 513987.09400 5316098.35200
SECONDARY_SE_QUAD_XY: 514003.98000 5309151.79300
SECONDARY_SW_QUAD_XY: 509335.98700 5309142.34200
RMSE_XY: 1.87000
IMAGE_SOURCE: BLACK AND WHITE FILM
SOURCE_IMAGE_ID: NAPP 9124-147
SOURCE_IMAGE_DATE: 1997 8 22
SOURCE_DEM_DATE: 1999 0 0
AGENCY: WESTERN MAPPING CENTER (WMC)
PRODUCER: WOOLPERT LLP
PRODUCTION_SYSTEM: INTERGRAPH ISPM, ISIR
COMPRESSION: UNDEFINED
STANDARD_VERSION: 1996 12
METADATA_DATE: 2001 3 22
DATA_FILE_SIZE: 40340530
BYTE_COUNT: 5329
