FILENAME: O4710402.SES.1133024.tif
QUADRANGLE_NAME: ELMDALE
QUADRANT: SE
WEST_LONGITUDE: -104 48 45.00000
EAST_LONGITUDE: -104 45 0.00000
NORTH_LATITUDE: 47 56 15.00000
SOUTH_LATITUDE: 47 52 30.00000
PRODUCTION_DATE: 2001 3 13
RASTER_ORDER: LEFT_RIGHT/TOP_BOTTOM
BAND_ORGANIZATION: SINGLE FILE
BAND_CONTENT: BLACK&WHITE
BAND_CONTENT: UNDEFINED
BAND_CONTENT: UNDEFINED
BITS_PER_PIXEL: 8
SAMPLES_AND_LINES: 5340 7572
HORIZONTAL_DATUM: NAD83
HORIZONTAL_COORDINATE_SYSTEM: UTM
COORDINATE_ZONE: 13
HORIZONTAL_UNITS: meters
HORIZONTAL_RESOLUTION: 1.00000
SECONDARY_HORIZONTAL_DATUM: NAD27
XY_ORIGIN: 513659.00000 5309691.00000
SECONDARY_XY_ORIGIN: 513698.37500 5309470.23700
NATION: US
STATE: MT
NW_QUAD_CORNER_XY: 514003.54000 5309370.65800
NE_QUAD_CORNER_XY: 518671.38400 5309383.88900
SE_QUAD_CORNERY_XY: 518693.87500 5302437.39400
SW_QUAD_CORNER_XY: 514020.40800 5302424.16000
SECONDARY_NW_QUAD_XY: 514003.98000 5309151.79300
SECONDARY_NE_QUAD_XY: 518671.97000 5309165.02500
SECONDARY_SE_QUAD_XY: 518694.46200 5302218.54600
SECONDARY_SW_QUAD_XY: 514020.84800 5302205.31200
RMSE_XY: 1.81000
IMAGE_SOURCE: BLACK AND WHITE FILM
SOURCE_IMAGE_ID: NAPP 9081-050
SOURCE_IMAGE_DATE: 1996 6 12
SOURCE_DEM_DATE: 1999 0 0
AGENCY: WESTERN MAPPING CENTER (WMC)
PRODUCER: WOOLPERT LLP
PRODUCTION_SYSTEM: INTERGRAPH ISPM, ISIR
COMPRESSION: UNDEFINED
STANDARD_VERSION: 1996 12
METADATA_DATE: 2001 3 13
DATA_FILE_SIZE: 40439820
BYTE_COUNT: 5340
