FILENAME: O4710402.SWS.1133025.tif
QUADRANGLE_NAME: ELMDALE
QUADRANT: SW
WEST_LONGITUDE: -104 52 30.00000
EAST_LONGITUDE: -104 48 45.00000
NORTH_LATITUDE: 47 56 15.00000
SOUTH_LATITUDE: 47 52 30.00000
PRODUCTION_DATE: 2001 3 13
RASTER_ORDER: LEFT_RIGHT/TOP_BOTTOM
BAND_ORGANIZATION: SINGLE FILE
BAND_CONTENT: BLACK&WHITE
BAND_CONTENT: UNDEFINED
BAND_CONTENT: UNDEFINED
BITS_PER_PIXEL: 8
SAMPLES_AND_LINES: 5335 7569
HORIZONTAL_DATUM: NAD83
HORIZONTAL_COORDINATE_SYSTEM: UTM
COORDINATE_ZONE: 13
HORIZONTAL_UNITS: meters
HORIZONTAL_RESOLUTION: 1.00000
SECONDARY_HORIZONTAL_DATUM: NAD27
XY_ORIGIN: 508991.00000 5309678.00000
SECONDARY_XY_ORIGIN: 509030.41500 5309457.20300
NATION: US
STATE: MT
NW_QUAD_CORNER_XY: 509335.69400 5309361.20700
NE_QUAD_CORNER_XY: 514003.54000 5309370.65800
SE_QUAD_CORNERY_XY: 514020.40800 5302424.16000
SW_QUAD_CORNER_XY: 509346.94000 5302414.70800
SECONDARY_NW_QUAD_XY: 509335.98700 5309142.34200
SECONDARY_NE_QUAD_XY: 514003.98000 5309151.79300
SECONDARY_SE_QUAD_XY: 514020.84800 5302205.31200
SECONDARY_SW_QUAD_XY: 509347.23300 5302195.85900
RMSE_XY: 1.67000
IMAGE_SOURCE: BLACK AND WHITE FILM
SOURCE_IMAGE_ID: NAPP 9124-145
SOURCE_IMAGE_DATE: 1997 8 22
SOURCE_DEM_DATE: 1999 0 0
AGENCY: WESTERN MAPPING CENTER (WMC)
PRODUCER: WOOLPERT LLP
PRODUCTION_SYSTEM: INTERGRAPH ISPM, ISIR
COMPRESSION: UNDEFINED
STANDARD_VERSION: 1996 12
METADATA_DATE: 2001 3 22
DATA_FILE_SIZE: 40385950
BYTE_COUNT: 5335
