FILENAME: O4710401.NES.1133010.tif
QUADRANGLE_NAME: ELMDALE NW
QUADRANT: NE
WEST_LONGITUDE: -104 56 15.00000
EAST_LONGITUDE: -104 52 30.00000
NORTH_LATITUDE: 48 0 0.00000
SOUTH_LATITUDE: 47 56 15.00000
PRODUCTION_DATE: 2001 3 13
RASTER_ORDER: LEFT_RIGHT/TOP_BOTTOM
BAND_ORGANIZATION: SINGLE FILE
BAND_CONTENT: BLACK&WHITE
BAND_CONTENT: UNDEFINED
BAND_CONTENT: UNDEFINED
BITS_PER_PIXEL: 8
SAMPLES_AND_LINES: 5324 7565
HORIZONTAL_DATUM: NAD83
HORIZONTAL_COORDINATE_SYSTEM: UTM
COORDINATE_ZONE: 13
HORIZONTAL_UNITS: meters
HORIZONTAL_RESOLUTION: 1.00000
SECONDARY_HORIZONTAL_DATUM: NAD27
XY_ORIGIN: 504317.00000 5316615.00000
SECONDARY_XY_ORIGIN: 504356.41700 5316394.08800
NATION: US
STATE: MT
NW_QUAD_CORNER_XY: 504662.21900 5316302.11400
NE_QUAD_CORNER_XY: 509324.43700 5316307.78300
SE_QUAD_CORNERY_XY: 509335.69400 5309361.20700
SW_QUAD_CORNER_XY: 504667.84700 5309355.53700
SECONDARY_NW_QUAD_XY: 504662.36600 5316083.23300
SECONDARY_NE_QUAD_XY: 509324.73100 5316088.90300
SECONDARY_SE_QUAD_XY: 509335.98700 5309142.34200
SECONDARY_SW_QUAD_XY: 504667.99400 5309136.67200
RMSE_XY: 2.18000
IMAGE_SOURCE: BLACK AND WHITE FILM
SOURCE_IMAGE_ID: NAPP 9081-180
SOURCE_IMAGE_DATE: 1996 6 12
SOURCE_DEM_DATE: 1999 0 0
AGENCY: WESTERN MAPPING CENTER (WMC)
PRODUCER: WOOLPERT LLP
PRODUCTION_SYSTEM: INTERGRAPH ISPM, ISIR
COMPRESSION: UNDEFINED
STANDARD_VERSION: 1996 12
METADATA_DATE: 2001 3 13
DATA_FILE_SIZE: 40281384
BYTE_COUNT: 5324
