FILENAME: O4710401.SES.1133012.tif
QUADRANGLE_NAME: ELMDALE NW
QUADRANT: SE
WEST_LONGITUDE: -104 56 15.00000
EAST_LONGITUDE: -104 52 30.00000
NORTH_LATITUDE: 47 56 15.00000
SOUTH_LATITUDE: 47 52 30.00000
PRODUCTION_DATE: 2001 3 13
RASTER_ORDER: LEFT_RIGHT/TOP_BOTTOM
BAND_ORGANIZATION: SINGLE FILE
BAND_CONTENT: BLACK&WHITE
BAND_CONTENT: UNDEFINED
BAND_CONTENT: UNDEFINED
BITS_PER_PIXEL: 8
SAMPLES_AND_LINES: 5329 7565
HORIZONTAL_DATUM: NAD83
HORIZONTAL_COORDINATE_SYSTEM: UTM
COORDINATE_ZONE: 13
HORIZONTAL_UNITS: meters
HORIZONTAL_RESOLUTION: 1.00000
SECONDARY_HORIZONTAL_DATUM: NAD27
XY_ORIGIN: 504323.00000 5309669.00000
SECONDARY_XY_ORIGIN: 504362.45400 5309448.16900
NATION: US
STATE: MT
NW_QUAD_CORNER_XY: 504667.84700 5309355.53700
NE_QUAD_CORNER_XY: 509335.69400 5309361.20700
SE_QUAD_CORNERY_XY: 509346.94000 5302414.70800
SW_QUAD_CORNER_XY: 504673.47000 5302409.03600
SECONDARY_NW_QUAD_XY: 504667.99400 5309136.67200
SECONDARY_NE_QUAD_XY: 509335.98700 5309142.34200
SECONDARY_SE_QUAD_XY: 509347.23300 5302195.85900
SECONDARY_SW_QUAD_XY: 504673.61700 5302190.18700
RMSE_XY: 1.97000
IMAGE_SOURCE: BLACK AND WHITE FILM
SOURCE_IMAGE_ID: NAPP 9081-178
SOURCE_IMAGE_DATE: 1996 6 12
SOURCE_DEM_DATE: 1999 0 0
AGENCY: WESTERN MAPPING CENTER (WMC)
PRODUCER: WOOLPERT LLP
PRODUCTION_SYSTEM: INTERGRAPH ISPM, ISIR
COMPRESSION: UNDEFINED
STANDARD_VERSION: 1996 12
METADATA_DATE: 2001 3 13
DATA_FILE_SIZE: 40319214
BYTE_COUNT: 5329
