FILENAME: O4710401.SWS.1133013.tif
QUADRANGLE_NAME: ELMDALE NW
QUADRANT: SW
WEST_LONGITUDE: -105 0 0.00000
EAST_LONGITUDE: -104 56 15.00000
NORTH_LATITUDE: 47 56 15.00000
SOUTH_LATITUDE: 47 52 30.00000
PRODUCTION_DATE: 2001 3 13
RASTER_ORDER: LEFT_RIGHT/TOP_BOTTOM
BAND_ORGANIZATION: SINGLE FILE
BAND_CONTENT: BLACK&WHITE
BAND_CONTENT: UNDEFINED
BAND_CONTENT: UNDEFINED
BITS_PER_PIXEL: 8
SAMPLES_AND_LINES: 5324 7561
HORIZONTAL_DATUM: NAD83
HORIZONTAL_COORDINATE_SYSTEM: UTM
COORDINATE_ZONE: 13
HORIZONTAL_UNITS: meters
HORIZONTAL_RESOLUTION: 1.00000
SECONDARY_HORIZONTAL_DATUM: NAD27
XY_ORIGIN: 499655.00000 5309663.00000
SECONDARY_XY_ORIGIN: 499694.49400 5309442.13400
NATION: US
STATE: MT
NW_QUAD_CORNER_XY: 500000.00000 5309353.64700
NE_QUAD_CORNER_XY: 504667.84700 5309355.53700
SE_QUAD_CORNERY_XY: 504673.47000 5302409.03600
SW_QUAD_CORNER_XY: 500000.00000 5302407.14500
SECONDARY_NW_QUAD_XY: 500000.00000 5309134.78200
SECONDARY_NE_QUAD_XY: 504667.99400 5309136.67200
SECONDARY_SE_QUAD_XY: 504673.61700 5302190.18700
SECONDARY_SW_QUAD_XY: 500000.00000 5302188.29600
RMSE_XY: 2.16000
IMAGE_SOURCE: BLACK AND WHITE FILM
SOURCE_IMAGE_ID: NAPP 9096-107
SOURCE_IMAGE_DATE: 1996 7 9
SOURCE_DEM_DATE: 1999 0 0
AGENCY: WESTERN MAPPING CENTER (WMC)
PRODUCER: WOOLPERT LLP
PRODUCTION_SYSTEM: INTERGRAPH ISPM, ISIR
COMPRESSION: UNDEFINED
STANDARD_VERSION: 1996 12
METADATA_DATE: 2001 3 13
DATA_FILE_SIZE: 40260088
BYTE_COUNT: 5324
