FILENAME: O4710564.NES.1163700.tif
QUADRANGLE_NAME: UPPER CRACKER BOX SCHOOL
QUADRANT: NE
WEST_LONGITUDE: -105 3 45.00000
EAST_LONGITUDE: -105 0 0.00000
NORTH_LATITUDE: 47 7 30.00000
SOUTH_LATITUDE: 47 3 45.00000
PRODUCTION_DATE: 2001 8 28
RASTER_ORDER: LEFT_RIGHT/TOP_BOTTOM
BAND_ORGANIZATION: SINGLE FILE
BAND_CONTENT: BLACK&WHITE
BAND_CONTENT: UNDEFINED
BAND_CONTENT: UNDEFINED
BITS_PER_PIXEL: 8
SAMPLES_AND_LINES: 5397 7560
HORIZONTAL_DATUM: NAD83
HORIZONTAL_COORDINATE_SYSTEM: UTM
COORDINATE_ZONE: 13
HORIZONTAL_UNITS: meters
HORIZONTAL_RESOLUTION: 1.00000
SECONDARY_HORIZONTAL_DATUM: NAD27
XY_ORIGIN: 494908.00000 5219364.00000
SECONDARY_XY_ORIGIN: 494948.16100 5219144.19000
NATION: US
STATE: MT
NW_QUAD_CORNER_XY: 495259.49500 5219056.95400
NE_QUAD_CORNER_XY: 500000.00000 5219055.05900
SE_QUAD_CORNERY_XY: 500000.00000 5212109.54600
SW_QUAD_CORNER_XY: 495253.94500 5212111.44200
SECONDARY_NW_QUAD_XY: 495259.34800 5218838.36400
SECONDARY_NE_QUAD_XY: 500000.00000 5218836.46900
SECONDARY_SE_QUAD_XY: 500000.00000 5211890.98400
SECONDARY_SW_QUAD_XY: 495253.79900 5211892.87900
RMSE_XY: 1.82000
IMAGE_SOURCE: BLACK AND WHITE FILM
SOURCE_IMAGE_ID: NAPP 9096-202
SOURCE_IMAGE_DATE: 1996 7 9
SOURCE_IMAGE_ID: NAPP 9096-201
SOURCE_IMAGE_DATE: 1996 7 9
SOURCE_DEM_DATE: 1999 0 0
AGENCY: WESTERN MAPPING CENTER (WMC)
PRODUCER: WOOLPERT LLP
PRODUCTION_SYSTEM: INTERGRAPH ISPM, ISIR
COMPRESSION: UNDEFINED
STANDARD_VERSION: 1996 12
METADATA_DATE: 2001 10 9
DATA_FILE_SIZE: 40806717
BYTE_COUNT: 5397
