FILENAME: O4710564.SES.1163702.tif
QUADRANGLE_NAME: UPPER CRACKER BOX SCHOOL
QUADRANT: SE
WEST_LONGITUDE: -105 3 45.00000
EAST_LONGITUDE: -105 0 0.00000
NORTH_LATITUDE: 47 3 45.00000
SOUTH_LATITUDE: 47 0 0.00000
PRODUCTION_DATE: 2001 8 28
RASTER_ORDER: LEFT_RIGHT/TOP_BOTTOM
BAND_ORGANIZATION: SINGLE FILE
BAND_CONTENT: BLACK&WHITE
BAND_CONTENT: UNDEFINED
BAND_CONTENT: UNDEFINED
BITS_PER_PIXEL: 8
SAMPLES_AND_LINES: 5402 7559
HORIZONTAL_DATUM: NAD83
HORIZONTAL_COORDINATE_SYSTEM: UTM
COORDINATE_ZONE: 13
HORIZONTAL_UNITS: meters
HORIZONTAL_RESOLUTION: 1.00000
SECONDARY_HORIZONTAL_DATUM: NAD27
XY_ORIGIN: 494903.00000 5212418.00000
SECONDARY_XY_ORIGIN: 494943.20300 5212198.26700
NATION: US
STATE: MT
NW_QUAD_CORNER_XY: 495253.94500 5212111.44200
NE_QUAD_CORNER_XY: 500000.00000 5212109.54600
SE_QUAD_CORNERY_XY: 500000.00000 5205164.11000
SW_QUAD_CORNER_XY: 495248.40200 5205166.00500
SECONDARY_NW_QUAD_XY: 495253.79900 5211892.87900
SECONDARY_NE_QUAD_XY: 500000.00000 5211890.98400
SECONDARY_SE_QUAD_XY: 500000.00000 5204945.57600
SECONDARY_SW_QUAD_XY: 495248.25500 5204947.47100
RMSE_XY: 2.03000
IMAGE_SOURCE: BLACK AND WHITE FILM
SOURCE_IMAGE_ID: NAPP 9096-204
SOURCE_IMAGE_DATE: 1996 7 9
SOURCE_DEM_DATE: 1999 0 0
AGENCY: WESTERN MAPPING CENTER (WMC)
PRODUCER: WOOLPERT LLP
PRODUCTION_SYSTEM: INTERGRAPH ISPM, ISIR
COMPRESSION: UNDEFINED
STANDARD_VERSION: 1996 12
METADATA_DATE: 2001 10 23
DATA_FILE_SIZE: 40839120
BYTE_COUNT: 5402
