FILENAME: O4710564.SWS.1163703.tif
QUADRANGLE_NAME: UPPER CRACKER BOX SCHOOL
QUADRANT: SW
WEST_LONGITUDE: -105 7 30.00000
EAST_LONGITUDE: -105 3 45.00000
NORTH_LATITUDE: 47 3 45.00000
SOUTH_LATITUDE: 47 0 0.00000
PRODUCTION_DATE: 2001 8 28
RASTER_ORDER: LEFT_RIGHT/TOP_BOTTOM
BAND_ORGANIZATION: SINGLE FILE
BAND_CONTENT: BLACK&WHITE
BAND_CONTENT: UNDEFINED
BAND_CONTENT: UNDEFINED
BITS_PER_PIXEL: 8
SAMPLES_AND_LINES: 5408 7563
HORIZONTAL_DATUM: NAD83
HORIZONTAL_COORDINATE_SYSTEM: UTM
COORDINATE_ZONE: 13
HORIZONTAL_UNITS: meters
HORIZONTAL_RESOLUTION: 1.00000
SECONDARY_HORIZONTAL_DATUM: NAD27
XY_ORIGIN: 490151.00000 5212424.00000
SECONDARY_XY_ORIGIN: 490191.28600 5212204.27200
NATION: US
STATE: MT
NW_QUAD_CORNER_XY: 490507.89100 5212117.12700
NE_QUAD_CORNER_XY: 495253.94500 5212111.44200
SE_QUAD_CORNERY_XY: 495248.40200 5205166.00500
SW_QUAD_CORNER_XY: 490496.80400 5205171.69200
SECONDARY_NW_QUAD_XY: 490507.59800 5211898.56500
SECONDARY_NE_QUAD_XY: 495253.79900 5211892.87900
SECONDARY_SE_QUAD_XY: 495248.25500 5204947.47100
SECONDARY_SW_QUAD_XY: 490496.51100 5204953.15700
RMSE_XY: 2.07000
IMAGE_SOURCE: BLACK AND WHITE FILM
SOURCE_IMAGE_ID: NAPP 9103-166
SOURCE_IMAGE_DATE: 1996 7 15
SOURCE_IMAGE_ID: NAPP 9119-131
SOURCE_IMAGE_DATE: 1996 8 26
SOURCE_DEM_DATE: 1999 0 0
AGENCY: WESTERN MAPPING CENTER (WMC)
PRODUCER: WOOLPERT LLP
PRODUCTION_SYSTEM: INTERGRAPH ISPM, ISIR
COMPRESSION: UNDEFINED
STANDARD_VERSION: 1996 12
METADATA_DATE: 2001 10 23
DATA_FILE_SIZE: 40906112
BYTE_COUNT: 5408
