FILENAME: O4710563.NWS.1163689.tif
QUADRANGLE_NAME: LINDSAY SW
QUADRANT: NW
WEST_LONGITUDE: -105 15 0.00000
EAST_LONGITUDE: -105 11 15.00000
NORTH_LATITUDE: 47 7 30.00000
SOUTH_LATITUDE: 47 3 45.00000
PRODUCTION_DATE: 2001 9 6
RASTER_ORDER: LEFT_RIGHT/TOP_BOTTOM
BAND_ORGANIZATION: SINGLE FILE
BAND_CONTENT: BLACK&WHITE
BAND_CONTENT: UNDEFINED
BAND_CONTENT: UNDEFINED
BITS_PER_PIXEL: 8
SAMPLES_AND_LINES: 5415 7571
HORIZONTAL_DATUM: NAD83
HORIZONTAL_COORDINATE_SYSTEM: UTM
COORDINATE_ZONE: 13
HORIZONTAL_UNITS: meters
HORIZONTAL_RESOLUTION: 1.00000
SECONDARY_HORIZONTAL_DATUM: NAD27
XY_ORIGIN: 480669.00000 5219392.00000
SECONDARY_XY_ORIGIN: 480709.40100 5219172.21300
NATION: US
STATE: MT
NW_QUAD_CORNER_XY: 481037.98300 5219085.37600
NE_QUAD_CORNER_XY: 485778.48600 5219072.11200
SE_QUAD_CORNERY_XY: 485761.83800 5212126.60200
SW_QUAD_CORNER_XY: 481015.78500 5212139.86800
SECONDARY_NW_QUAD_XY: 481037.39700 5218866.78700
SECONDARY_NE_QUAD_XY: 485778.04700 5218853.52300
SECONDARY_SE_QUAD_XY: 485761.39800 5211908.04000
SECONDARY_SW_QUAD_XY: 481015.20000 5211921.30600
RMSE_XY: 2.10000
IMAGE_SOURCE: BLACK AND WHITE FILM
SOURCE_IMAGE_ID: NAPP 9119-248
SOURCE_IMAGE_DATE: 1996 8 26
SOURCE_IMAGE_ID: NAPP 9119-247
SOURCE_IMAGE_DATE: 1996 8 26
SOURCE_DEM_DATE: 1999 0 0
AGENCY: WESTERN MAPPING CENTER (WMC)
PRODUCER: WOOLPERT LLP
PRODUCTION_SYSTEM: INTERGRAPH ISPM, ISIR
COMPRESSION: UNDEFINED
STANDARD_VERSION: 1996 12
METADATA_DATE: 2001 9 12
DATA_FILE_SIZE: 41002380
BYTE_COUNT: 5415
