FILENAME: O4710562.NES.1163878.tif
QUADRANGLE_NAME: DIAMOND G BUTTE
QUADRANT: NE
WEST_LONGITUDE: -105 18 45.00000
EAST_LONGITUDE: -105 15 0.00000
NORTH_LATITUDE: 47 7 30.00000
SOUTH_LATITUDE: 47 3 45.00000
PRODUCTION_DATE: 2001 9 11
RASTER_ORDER: LEFT_RIGHT/TOP_BOTTOM
BAND_ORGANIZATION: SINGLE FILE
BAND_CONTENT: BLACK&WHITE
BAND_CONTENT: UNDEFINED
BAND_CONTENT: UNDEFINED
BITS_PER_PIXEL: 8
SAMPLES_AND_LINES: 5420 7575
HORIZONTAL_DATUM: NAD83
HORIZONTAL_COORDINATE_SYSTEM: UTM
COORDINATE_ZONE: 13
HORIZONTAL_UNITS: meters
HORIZONTAL_RESOLUTION: 1.00000
SECONDARY_HORIZONTAL_DATUM: NAD27
XY_ORIGIN: 475923.00000 5219409.00000
SECONDARY_XY_ORIGIN: 475963.46900 5219189.22700
NATION: US
STATE: MT
NW_QUAD_CORNER_XY: 476297.48200 5219102.42900
NE_QUAD_CORNER_XY: 481037.98300 5219085.37600
SE_QUAD_CORNERY_XY: 481015.78500 5212139.86800
SW_QUAD_CORNER_XY: 476269.73500 5212156.92400
SECONDARY_NW_QUAD_XY: 476296.75000 5218883.84100
SECONDARY_NE_QUAD_XY: 481037.39700 5218866.78700
SECONDARY_SE_QUAD_XY: 481015.20000 5211921.30600
SECONDARY_SW_QUAD_XY: 476269.00200 5211938.36300
RMSE_XY: 2.55000
IMAGE_SOURCE: BLACK AND WHITE FILM
SOURCE_IMAGE_ID: NAPP 9116-197
SOURCE_IMAGE_DATE: 1996 8 27
SOURCE_DEM_DATE: 1999 0 0
AGENCY: WESTERN MAPPING CENTER (WMC)
PRODUCER: WOOLPERT LLP
PRODUCTION_SYSTEM: INTERGRAPH ISPM, ISIR
COMPRESSION: UNDEFINED
STANDARD_VERSION: 1996 12
METADATA_DATE: 2001 9 11
DATA_FILE_SIZE: 41061920
BYTE_COUNT: 5420
