FILENAME: O4710562.NWS.1163879.tif
QUADRANGLE_NAME: DIAMOND G BUTTE
QUADRANT: NW
WEST_LONGITUDE: -105 22 30.00000
EAST_LONGITUDE: -105 18 45.00000
NORTH_LATITUDE: 47 7 30.00000
SOUTH_LATITUDE: 47 3 45.00000
PRODUCTION_DATE: 2001 9 11
RASTER_ORDER: LEFT_RIGHT/TOP_BOTTOM
BAND_ORGANIZATION: SINGLE FILE
BAND_CONTENT: BLACK&WHITE
BAND_CONTENT: UNDEFINED
BAND_CONTENT: UNDEFINED
BITS_PER_PIXEL: 8
SAMPLES_AND_LINES: 5426 7579
HORIZONTAL_DATUM: NAD83
HORIZONTAL_COORDINATE_SYSTEM: UTM
COORDINATE_ZONE: 13
HORIZONTAL_UNITS: meters
HORIZONTAL_RESOLUTION: 1.00000
SECONDARY_HORIZONTAL_DATUM: NAD27
XY_ORIGIN: 471177.00000 5219430.00000
SECONDARY_XY_ORIGIN: 471217.53600 5219210.24100
NATION: US
STATE: MT
NW_QUAD_CORNER_XY: 471556.98300 5219123.27200
NE_QUAD_CORNER_XY: 476297.48200 5219102.42900
SE_QUAD_CORNERY_XY: 476269.73500 5212156.92400
SW_QUAD_CORNER_XY: 471523.68600 5212177.77000
SECONDARY_NW_QUAD_XY: 471556.10400 5218904.68400
SECONDARY_NE_QUAD_XY: 476296.75000 5218883.84100
SECONDARY_SE_QUAD_XY: 476269.00200 5211938.36300
SECONDARY_SW_QUAD_XY: 471522.80700 5211959.21000
RMSE_XY: 2.70000
IMAGE_SOURCE: BLACK AND WHITE FILM
SOURCE_IMAGE_ID: NAPP 9116-073
SOURCE_IMAGE_DATE: 1996 8 27
SOURCE_IMAGE_ID: NAPP 9116-074
SOURCE_IMAGE_DATE: 1996 8 27
SOURCE_IMAGE_ID: NAPP 9093-067
SOURCE_IMAGE_DATE: 1996 7 9
SOURCE_DEM_DATE: 1999 0 0
AGENCY: WESTERN MAPPING CENTER (WMC)
PRODUCER: WOOLPERT LLP
PRODUCTION_SYSTEM: INTERGRAPH ISPM, ISIR
COMPRESSION: UNDEFINED
STANDARD_VERSION: 1996 12
METADATA_DATE: 2001 10 10
DATA_FILE_SIZE: 41129080
BYTE_COUNT: 5426
