FILENAME: O4710561.SES.1163876.tif
QUADRANGLE_NAME: NORTH COULEE
QUADRANT: SE
WEST_LONGITUDE: -105 26 15.00000
EAST_LONGITUDE: -105 22 30.00000
NORTH_LATITUDE: 47 3 45.00000
SOUTH_LATITUDE: 47 0 0.00000
PRODUCTION_DATE: 2001 9 11
RASTER_ORDER: LEFT_RIGHT/TOP_BOTTOM
BAND_ORGANIZATION: SINGLE FILE
BAND_CONTENT: BLACK&WHITE
BAND_CONTENT: UNDEFINED
BAND_CONTENT: UNDEFINED
BITS_PER_PIXEL: 8
SAMPLES_AND_LINES: 5437 7582
HORIZONTAL_DATUM: NAD83
HORIZONTAL_COORDINATE_SYSTEM: UTM
COORDINATE_ZONE: 13
HORIZONTAL_UNITS: meters
HORIZONTAL_RESOLUTION: 1.00000
SECONDARY_HORIZONTAL_DATUM: NAD27
XY_ORIGIN: 466392.00000 5212509.00000
SECONDARY_XY_ORIGIN: 466432.64700 5212289.30900
NATION: US
STATE: MT
NW_QUAD_CORNER_XY: 466777.64000 5212202.40600
NE_QUAD_CORNER_XY: 471523.68600 5212177.77000
SE_QUAD_CORNERY_XY: 471490.42300 5205232.34400
SW_QUAD_CORNER_XY: 466738.83300 5205256.98400
SECONDARY_NW_QUAD_XY: 466776.61400 5211983.84700
SECONDARY_NE_QUAD_XY: 471522.80700 5211959.21000
SECONDARY_SE_QUAD_XY: 471489.54400 5205013.81100
SECONDARY_SW_QUAD_XY: 466737.80800 5205038.45200
RMSE_XY: 2.35000
IMAGE_SOURCE: BLACK AND WHITE FILM
SOURCE_IMAGE_ID: NAPP 9093-064
SOURCE_IMAGE_DATE: 1996 7 9
SOURCE_IMAGE_ID: NAPP 9093-063
SOURCE_IMAGE_DATE: 1996 7 9
SOURCE_IMAGE_ID: NAPP 9093-194
SOURCE_IMAGE_DATE: 1996 7 9
SOURCE_DEM_DATE: 1999 0 0
AGENCY: WESTERN MAPPING CENTER (WMC)
PRODUCER: WOOLPERT LLP
PRODUCTION_SYSTEM: INTERGRAPH ISPM, ISIR
COMPRESSION: UNDEFINED
STANDARD_VERSION: 1996 12
METADATA_DATE: 2001 9 22
DATA_FILE_SIZE: 41228771
BYTE_COUNT: 5437
