FILENAME: O4710561.SWS.1163877.tif
QUADRANGLE_NAME: NORTH COULEE
QUADRANT: SW
WEST_LONGITUDE: -105 30 0.00000
EAST_LONGITUDE: -105 26 15.00000
NORTH_LATITUDE: 47 3 45.00000
SOUTH_LATITUDE: 47 0 0.00000
PRODUCTION_DATE: 2001 9 11
RASTER_ORDER: LEFT_RIGHT/TOP_BOTTOM
BAND_ORGANIZATION: SINGLE FILE
BAND_CONTENT: BLACK&WHITE
BAND_CONTENT: UNDEFINED
BAND_CONTENT: UNDEFINED
BITS_PER_PIXEL: 8
SAMPLES_AND_LINES: 5443 7586
HORIZONTAL_DATUM: NAD83
HORIZONTAL_COORDINATE_SYSTEM: UTM
COORDINATE_ZONE: 13
HORIZONTAL_UNITS: meters
HORIZONTAL_RESOLUTION: 1.00000
SECONDARY_HORIZONTAL_DATUM: NAD27
XY_ORIGIN: 461640.00000 5212537.00000
SECONDARY_XY_ORIGIN: 461680.71400 5212317.31800
NATION: US
STATE: MT
NW_QUAD_CORNER_XY: 462031.59600 5212230.83300
NE_QUAD_CORNER_XY: 466777.64000 5212202.40600
SE_QUAD_CORNERY_XY: 466738.83300 5205256.98400
SW_QUAD_CORNER_XY: 461987.24500 5205285.41500
SECONDARY_NW_QUAD_XY: 462030.42500 5212012.27500
SECONDARY_NE_QUAD_XY: 466776.61400 5211983.84700
SECONDARY_SE_QUAD_XY: 466737.80800 5205038.45200
SECONDARY_SW_QUAD_XY: 461986.07400 5205066.88400
RMSE_XY: 2.50000
IMAGE_SOURCE: BLACK AND WHITE FILM
SOURCE_IMAGE_ID: NAPP 9093-193
SOURCE_IMAGE_DATE: 1996 7 9
SOURCE_IMAGE_ID: NAPP 9093-194
SOURCE_IMAGE_DATE: 1996 7 9
SOURCE_IMAGE_ID: NAPP 9094-026
SOURCE_IMAGE_DATE: 1996 7 9
SOURCE_DEM_DATE: 1999 0 0
AGENCY: WESTERN MAPPING CENTER (WMC)
PRODUCER: WOOLPERT LLP
PRODUCTION_SYSTEM: INTERGRAPH ISPM, ISIR
COMPRESSION: UNDEFINED
STANDARD_VERSION: 1996 12
METADATA_DATE: 2001 9 22
DATA_FILE_SIZE: 41296041
BYTE_COUNT: 5443
