FILENAME: O4710560.NWS.1163867.tif
QUADRANGLE_NAME: BECKER DAM
QUADRANT: NW
WEST_LONGITUDE: -105 37 30.00000
EAST_LONGITUDE: -105 33 45.00000
NORTH_LATITUDE: 47 7 30.00000
SOUTH_LATITUDE: 47 3 45.00000
PRODUCTION_DATE: 2001 9 17
RASTER_ORDER: LEFT_RIGHT/TOP_BOTTOM
BAND_ORGANIZATION: SINGLE FILE
BAND_CONTENT: BLACK&WHITE
BAND_CONTENT: UNDEFINED
BAND_CONTENT: UNDEFINED
BITS_PER_PIXEL: 8
SAMPLES_AND_LINES: 5449 7593
HORIZONTAL_DATUM: NAD83
HORIZONTAL_COORDINATE_SYSTEM: UTM
COORDINATE_ZONE: 13
HORIZONTAL_UNITS: meters
HORIZONTAL_RESOLUTION: 1.00000
SECONDARY_HORIZONTAL_DATUM: NAD27
XY_ORIGIN: 452192.00000 5219551.00000
SECONDARY_XY_ORIGIN: 452232.83200 5219331.32300
NATION: US
STATE: MT
NW_QUAD_CORNER_XY: 452595.01600 5219244.54100
NE_QUAD_CORNER_XY: 457335.50200 5219208.53900
SE_QUAD_CORNERY_XY: 457285.55600 5212263.05100
SW_QUAD_CORNER_XY: 452539.51900 5212299.05800
SECONDARY_NW_QUAD_XY: 452593.55100 5219025.95800
SECONDARY_NE_QUAD_XY: 457334.18400 5218989.95400
SECONDARY_SE_QUAD_XY: 457284.23800 5212044.49300
SECONDARY_SW_QUAD_XY: 452538.05500 5212080.50200
RMSE_XY: 2.25000
IMAGE_SOURCE: BLACK AND WHITE FILM
SOURCE_IMAGE_ID: NAPP 9094-152
SOURCE_IMAGE_DATE: 1996 7 9
SOURCE_IMAGE_ID: NAPP 9094-153
SOURCE_IMAGE_DATE: 1996 7 9
SOURCE_DEM_DATE: 1999 0 0
AGENCY: WESTERN MAPPING CENTER (WMC)
PRODUCER: WOOLPERT LLP
PRODUCTION_SYSTEM: INTERGRAPH ISPM, ISIR
COMPRESSION: UNDEFINED
STANDARD_VERSION: 1996 12
METADATA_DATE: 2001 9 24
DATA_FILE_SIZE: 41379706
BYTE_COUNT: 5449
