FILENAME: O4710560.SES.1163868.tif
QUADRANGLE_NAME: BECKER DAM
QUADRANT: SE
WEST_LONGITUDE: -105 33 45.00000
EAST_LONGITUDE: -105 30 0.00000
NORTH_LATITUDE: 47 3 45.00000
SOUTH_LATITUDE: 47 0 0.00000
PRODUCTION_DATE: 2001 9 17
RASTER_ORDER: LEFT_RIGHT/TOP_BOTTOM
BAND_ORGANIZATION: SINGLE FILE
BAND_CONTENT: BLACK&WHITE
BAND_CONTENT: UNDEFINED
BAND_CONTENT: UNDEFINED
BITS_PER_PIXEL: 8
SAMPLES_AND_LINES: 5449 7590
HORIZONTAL_DATUM: NAD83
HORIZONTAL_COORDINATE_SYSTEM: UTM
COORDINATE_ZONE: 13
HORIZONTAL_UNITS: meters
HORIZONTAL_RESOLUTION: 1.00000
SECONDARY_HORIZONTAL_DATUM: NAD27
XY_ORIGIN: 456888.00000 5212570.00000
SECONDARY_XY_ORIGIN: 456928.79300 5212350.33600
NATION: US
STATE: MT
NW_QUAD_CORNER_XY: 457285.55600 5212263.05100
NE_QUAD_CORNER_XY: 462031.59600 5212230.83300
SE_QUAD_CORNERY_XY: 461987.24500 5205285.41500
SW_QUAD_CORNER_XY: 457235.66000 5205317.63700
SECONDARY_NW_QUAD_XY: 457284.23800 5212044.49300
SECONDARY_NE_QUAD_XY: 462030.42500 5212012.27500
SECONDARY_SE_QUAD_XY: 461986.07400 5205066.88400
SECONDARY_SW_QUAD_XY: 457234.34300 5205099.10800
RMSE_XY: 2.20000
IMAGE_SOURCE: BLACK AND WHITE FILM
SOURCE_IMAGE_ID: NAPP 9094-025
SOURCE_IMAGE_DATE: 1996 7 9
SOURCE_IMAGE_ID: NAPP 9094-026
SOURCE_IMAGE_DATE: 1996 7 9
SOURCE_IMAGE_ID: NAPP 9094-153
SOURCE_IMAGE_DATE: 1996 7 9
SOURCE_DEM_DATE: 1999 0 0
AGENCY: WESTERN MAPPING CENTER (WMC)
PRODUCER: WOOLPERT LLP
PRODUCTION_SYSTEM: INTERGRAPH ISPM, ISIR
COMPRESSION: UNDEFINED
STANDARD_VERSION: 1996 12
METADATA_DATE: 2001 9 24
DATA_FILE_SIZE: 41363359
BYTE_COUNT: 5449
