FILENAME: O4710559.NWS.1163859.tif
QUADRANGLE_NAME: BIG SHEEP MOUNTAIN
QUADRANT: NW
WEST_LONGITUDE: -105 45 0.00000
EAST_LONGITUDE: -105 41 15.00000
NORTH_LATITUDE: 47 7 30.00000
SOUTH_LATITUDE: 47 3 45.00000
PRODUCTION_DATE: 2001 9 13
RASTER_ORDER: LEFT_RIGHT/TOP_BOTTOM
BAND_ORGANIZATION: SINGLE FILE
BAND_CONTENT: BLACK&WHITE
BAND_CONTENT: UNDEFINED
BAND_CONTENT: UNDEFINED
BITS_PER_PIXEL: 8
SAMPLES_AND_LINES: 5461 7601
HORIZONTAL_DATUM: NAD83
HORIZONTAL_COORDINATE_SYSTEM: UTM
COORDINATE_ZONE: 13
HORIZONTAL_UNITS: meters
HORIZONTAL_RESOLUTION: 1.00000
SECONDARY_HORIZONTAL_DATUM: NAD27
XY_ORIGIN: 442699.00000 5219634.00000
SECONDARY_XY_ORIGIN: 442739.99500 5219414.37700
NATION: US
STATE: MT
NW_QUAD_CORNER_XY: 443114.05500 5219327.91600
NE_QUAD_CORNER_XY: 447854.53300 5219284.33400
SE_QUAD_CORNERY_XY: 447793.48600 5212338.85700
SW_QUAD_CORNER_XY: 443047.45800 5212382.44600
SECONDARY_NW_QUAD_XY: 443112.29700 5219109.33500
SECONDARY_NE_QUAD_XY: 447852.92200 5219065.75100
SECONDARY_SE_QUAD_XY: 447791.87500 5212120.30100
SECONDARY_SW_QUAD_XY: 443045.70000 5212163.89200
RMSE_XY: 1.78000
IMAGE_SOURCE: BLACK AND WHITE FILM
SOURCE_IMAGE_ID: NAPP 10721-153
SOURCE_IMAGE_DATE: 1997 8 25
SOURCE_IMAGE_ID: NAPP 10721-154
SOURCE_IMAGE_DATE: 1997 8 25
SOURCE_IMAGE_ID: NAPP 10721-152
SOURCE_IMAGE_DATE: 1997 8 25
SOURCE_DEM_DATE: 1999 0 0
AGENCY: WESTERN MAPPING CENTER (WMC)
PRODUCER: WOOLPERT LLP
PRODUCTION_SYSTEM: INTERGRAPH ISPM, ISIR
COMPRESSION: UNDEFINED
STANDARD_VERSION: 1996 12
METADATA_DATE: 2001 10 24
DATA_FILE_SIZE: 41514522
BYTE_COUNT: 5461
