FILENAME: O4710558.SES.1163848.tif
QUADRANGLE_NAME: WATKINS SE
QUADRANT: SE
WEST_LONGITUDE: -105 48 45.00000
EAST_LONGITUDE: -105 45 0.00000
NORTH_LATITUDE: 47 3 45.00000
SOUTH_LATITUDE: 47 0 0.00000
PRODUCTION_DATE: 2001 9 18
RASTER_ORDER: LEFT_RIGHT/TOP_BOTTOM
BAND_ORGANIZATION: SINGLE FILE
BAND_CONTENT: BLACK&WHITE
BAND_CONTENT: UNDEFINED
BAND_CONTENT: UNDEFINED
BITS_PER_PIXEL: 8
SAMPLES_AND_LINES: 5472 7604
HORIZONTAL_DATUM: NAD83
HORIZONTAL_COORDINATE_SYSTEM: UTM
COORDINATE_ZONE: 13
HORIZONTAL_UNITS: meters
HORIZONTAL_RESOLUTION: 1.00000
SECONDARY_HORIZONTAL_DATUM: NAD27
XY_ORIGIN: 437881.00000 5212736.00000
SECONDARY_XY_ORIGIN: 437922.16100 5212516.43000
NATION: US
STATE: MT
NW_QUAD_CORNER_XY: 438301.43400 5212429.82600
NE_QUAD_CORNER_XY: 443047.45800 5212382.44600
SE_QUAD_CORNERY_XY: 442980.92900 5205437.05100
SW_QUAD_CORNER_XY: 438229.36100 5205484.43800
SECONDARY_NW_QUAD_XY: 438299.53000 5212211.27300
SECONDARY_NE_QUAD_XY: 443045.70000 5212163.89200
SECONDARY_SE_QUAD_XY: 442979.17200 5205218.52500
SECONDARY_SW_QUAD_XY: 438227.45700 5205265.91300
RMSE_XY: 2.19000
IMAGE_SOURCE: BLACK AND WHITE FILM
SOURCE_IMAGE_ID: NAPP 9086-147
SOURCE_IMAGE_DATE: 1996 6 13
SOURCE_IMAGE_ID: NAPP 10766-161
SOURCE_IMAGE_DATE: 1998 7 10
SOURCE_DEM_DATE: 1999 0 0
AGENCY: WESTERN MAPPING CENTER (WMC)
PRODUCER: WOOLPERT LLP
PRODUCTION_SYSTEM: INTERGRAPH ISPM, ISIR
COMPRESSION: UNDEFINED
STANDARD_VERSION: 1996 12
METADATA_DATE: 2001 9 26
DATA_FILE_SIZE: 41614560
BYTE_COUNT: 5472
