FILENAME: O4710557.NES.1163834.tif
QUADRANGLE_NAME: HEITZ SCHOOL
QUADRANT: NE
WEST_LONGITUDE: -105 56 15.00000
EAST_LONGITUDE: -105 52 30.00000
NORTH_LATITUDE: 47 7 30.00000
SOUTH_LATITUDE: 47 3 45.00000
PRODUCTION_DATE: 2001 9 19
RASTER_ORDER: LEFT_RIGHT/TOP_BOTTOM
BAND_ORGANIZATION: SINGLE FILE
BAND_CONTENT: BLACK&WHITE
BAND_CONTENT: UNDEFINED
BAND_CONTENT: UNDEFINED
BITS_PER_PIXEL: 8
SAMPLES_AND_LINES: 5479 7613
HORIZONTAL_DATUM: NAD83
HORIZONTAL_COORDINATE_SYSTEM: UTM
COORDINATE_ZONE: 13
HORIZONTAL_UNITS: meters
HORIZONTAL_RESOLUTION: 1.00000
SECONDARY_HORIZONTAL_DATUM: NAD27
XY_ORIGIN: 428460.00000 5219788.00000
SECONDARY_XY_ORIGIN: 428501.35900 5219568.52700
NATION: US
STATE: MT
NW_QUAD_CORNER_XY: 428892.65200 5219481.40400
NE_QUAD_CORNER_XY: 433633.11400 5219426.45100
SE_QUAD_CORNERY_XY: 433555.41600 5212480.99600
SW_QUAD_CORNER_XY: 428809.40300 5212535.95800
SECONDARY_NW_QUAD_XY: 428890.45400 5219262.82700
SECONDARY_NE_QUAD_XY: 433631.06300 5219207.87300
SECONDARY_SE_QUAD_XY: 433553.36600 5212262.44500
SECONDARY_SW_QUAD_XY: 428807.20600 5212317.40800
RMSE_XY: 2.50000
IMAGE_SOURCE: BLACK AND WHITE FILM
SOURCE_IMAGE_ID: NAPP 9088-077
SOURCE_IMAGE_DATE: 1996 7 7
SOURCE_DEM_DATE: 1999 0 0
AGENCY: WESTERN MAPPING CENTER (WMC)
PRODUCER: WOOLPERT LLP
PRODUCTION_SYSTEM: INTERGRAPH ISPM, ISIR
COMPRESSION: UNDEFINED
STANDARD_VERSION: 1996 12
METADATA_DATE: 2001 9 19
DATA_FILE_SIZE: 41717106
BYTE_COUNT: 5479
