FILENAME: O4710556.NES.1165323.tif
QUADRANGLE_NAME: WOODROW
QUADRANT: NE
WEST_LONGITUDE: -105 3 45.00000
EAST_LONGITUDE: -105 0 0.00000
NORTH_LATITUDE: 47 15 0.00000
SOUTH_LATITUDE: 47 11 15.00000
PRODUCTION_DATE: 2001 9 27
RASTER_ORDER: LEFT_RIGHT/TOP_BOTTOM
BAND_ORGANIZATION: SINGLE FILE
BAND_CONTENT: BLACK&WHITE
BAND_CONTENT: UNDEFINED
BAND_CONTENT: UNDEFINED
BITS_PER_PIXEL: 8
SAMPLES_AND_LINES: 5386 7560
HORIZONTAL_DATUM: NAD83
HORIZONTAL_COORDINATE_SYSTEM: UTM
COORDINATE_ZONE: 13
HORIZONTAL_UNITS: meters
HORIZONTAL_RESOLUTION: 1.00000
SECONDARY_HORIZONTAL_DATUM: NAD27
XY_ORIGIN: 494919.00000 5233255.00000
SECONDARY_XY_ORIGIN: 494959.07700 5233035.04000
NATION: US
STATE: MT
NW_QUAD_CORNER_XY: 495270.61100 5232948.20700
NE_QUAD_CORNER_XY: 500000.00000 5232946.31300
SE_QUAD_CORNERY_XY: 500000.00000 5226000.64800
SW_QUAD_CORNER_XY: 495265.05000 5226002.54200
SECONDARY_NW_QUAD_XY: 495270.46400 5232729.56500
SECONDARY_NE_QUAD_XY: 500000.00000 5232727.67100
SECONDARY_SE_QUAD_XY: 500000.00000 5225782.03200
SECONDARY_SW_QUAD_XY: 495264.90300 5225783.92600
RMSE_XY: 2.55000
IMAGE_SOURCE: BLACK AND WHITE FILM
SOURCE_IMAGE_ID: NAPP 9124-161
SOURCE_IMAGE_DATE: 1997 8 22
SOURCE_DEM_DATE: 1999 0 0
AGENCY: WESTERN MAPPING CENTER (WMC)
PRODUCER: WOOLPERT LLP
PRODUCTION_SYSTEM: INTERGRAPH ISPM, ISIR
COMPRESSION: UNDEFINED
STANDARD_VERSION: 1996 12
METADATA_DATE: 2001 9 27
DATA_FILE_SIZE: 40723546
BYTE_COUNT: 5386
