FILENAME: O4710556.NWS.1165324.tif
QUADRANGLE_NAME: WOODROW
QUADRANT: NW
WEST_LONGITUDE: -105 7 30.00000
EAST_LONGITUDE: -105 3 45.00000
NORTH_LATITUDE: 47 15 0.00000
SOUTH_LATITUDE: 47 11 15.00000
PRODUCTION_DATE: 2001 9 27
RASTER_ORDER: LEFT_RIGHT/TOP_BOTTOM
BAND_ORGANIZATION: SINGLE FILE
BAND_CONTENT: BLACK&WHITE
BAND_CONTENT: UNDEFINED
BAND_CONTENT: UNDEFINED
BITS_PER_PIXEL: 8
SAMPLES_AND_LINES: 5392 7564
HORIZONTAL_DATUM: NAD83
HORIZONTAL_COORDINATE_SYSTEM: UTM
COORDINATE_ZONE: 13
HORIZONTAL_UNITS: meters
HORIZONTAL_RESOLUTION: 1.00000
SECONDARY_HORIZONTAL_DATUM: NAD27
XY_ORIGIN: 490184.00000 5233261.00000
SECONDARY_XY_ORIGIN: 490224.15200 5233041.05200
NATION: US
STATE: MT
NW_QUAD_CORNER_XY: 490541.22200 5232953.88900
NE_QUAD_CORNER_XY: 495270.61100 5232948.20700
SE_QUAD_CORNERY_XY: 495265.05000 5226002.54200
SW_QUAD_CORNER_XY: 490530.10000 5226008.22600
SECONDARY_NW_QUAD_XY: 490540.92900 5232735.24800
SECONDARY_NE_QUAD_XY: 495270.46400 5232729.56500
SECONDARY_SE_QUAD_XY: 495264.90300 5225783.92600
SECONDARY_SW_QUAD_XY: 490529.80700 5225789.61000
RMSE_XY: 2.60000
IMAGE_SOURCE: BLACK AND WHITE FILM
SOURCE_IMAGE_ID: NAPP 9103-160
SOURCE_IMAGE_DATE: 1996 7 15
SOURCE_IMAGE_ID: NAPP 9103-159
SOURCE_IMAGE_DATE: 1996 7 15
SOURCE_DEM_DATE: 1999 0 0
AGENCY: WESTERN MAPPING CENTER (WMC)
PRODUCER: WOOLPERT LLP
PRODUCTION_SYSTEM: INTERGRAPH ISPM, ISIR
COMPRESSION: UNDEFINED
STANDARD_VERSION: 1996 12
METADATA_DATE: 2001 10 9
DATA_FILE_SIZE: 40790480
BYTE_COUNT: 5392
