FILENAME: O4710555.NES.1165311.tif
QUADRANGLE_NAME: LINDSAY
QUADRANT: NE
WEST_LONGITUDE: -105 11 15.00000
EAST_LONGITUDE: -105 7 30.00000
NORTH_LATITUDE: 47 15 0.00000
SOUTH_LATITUDE: 47 11 15.00000
PRODUCTION_DATE: 2001 9 26
RASTER_ORDER: LEFT_RIGHT/TOP_BOTTOM
BAND_ORGANIZATION: SINGLE FILE
BAND_CONTENT: BLACK&WHITE
BAND_CONTENT: UNDEFINED
BAND_CONTENT: UNDEFINED
BITS_PER_PIXEL: 8
SAMPLES_AND_LINES: 5398 7567
HORIZONTAL_DATUM: NAD83
HORIZONTAL_COORDINATE_SYSTEM: UTM
COORDINATE_ZONE: 13
HORIZONTAL_UNITS: meters
HORIZONTAL_RESOLUTION: 1.00000
SECONDARY_HORIZONTAL_DATUM: NAD27
XY_ORIGIN: 485449.00000 5233270.00000
SECONDARY_XY_ORIGIN: 485489.22800 5233050.06300
NATION: US
STATE: MT
NW_QUAD_CORNER_XY: 485811.83400 5232963.36000
NE_QUAD_CORNER_XY: 490541.22200 5232953.88900
SE_QUAD_CORNERY_XY: 490530.10000 5226008.22600
SW_QUAD_CORNER_XY: 485795.15200 5226017.69800
SECONDARY_NW_QUAD_XY: 485811.39400 5232744.71900
SECONDARY_NE_QUAD_XY: 490540.92900 5232735.24800
SECONDARY_SE_QUAD_XY: 490529.80700 5225789.61000
SECONDARY_SW_QUAD_XY: 485794.71200 5225799.08300
RMSE_XY: 2.08000
IMAGE_SOURCE: BLACK AND WHITE FILM
SOURCE_IMAGE_ID: NAPP 9103-175
SOURCE_IMAGE_DATE: 1996 7 15
SOURCE_IMAGE_ID: NAPP 9103-174
SOURCE_IMAGE_DATE: 1996 7 15
SOURCE_DEM_DATE: 1999 0 0
AGENCY: WESTERN MAPPING CENTER (WMC)
PRODUCER: WOOLPERT LLP
PRODUCTION_SYSTEM: INTERGRAPH ISPM, ISIR
COMPRESSION: UNDEFINED
STANDARD_VERSION: 1996 12
METADATA_DATE: 2001 10 10
DATA_FILE_SIZE: 40852064
BYTE_COUNT: 5398
