FILENAME: O4710554.NWS.1165300.tif
QUADRANGLE_NAME: UNION SCHOOL
QUADRANT: NW
WEST_LONGITUDE: -105 22 30.00000
EAST_LONGITUDE: -105 18 45.00000
NORTH_LATITUDE: 47 15 0.00000
SOUTH_LATITUDE: 47 11 15.00000
PRODUCTION_DATE: 2001 9 27
RASTER_ORDER: LEFT_RIGHT/TOP_BOTTOM
BAND_ORGANIZATION: SINGLE FILE
BAND_CONTENT: BLACK&WHITE
BAND_CONTENT: UNDEFINED
BAND_CONTENT: UNDEFINED
BITS_PER_PIXEL: 8
SAMPLES_AND_LINES: 5416 7578
HORIZONTAL_DATUM: NAD83
HORIZONTAL_COORDINATE_SYSTEM: UTM
COORDINATE_ZONE: 13
HORIZONTAL_UNITS: meters
HORIZONTAL_RESOLUTION: 1.00000
SECONDARY_HORIZONTAL_DATUM: NAD27
XY_ORIGIN: 471243.00000 5233321.00000
SECONDARY_XY_ORIGIN: 471283.44600 5233101.12400
NATION: US
STATE: MT
NW_QUAD_CORNER_XY: 471623.68000 5233014.50300
NE_QUAD_CORNER_XY: 476353.06300 5232993.66700
SE_QUAD_CORNERY_XY: 476325.25800 5226048.01000
SW_QUAD_CORNER_XY: 471590.31400 5226068.85000
SECONDARY_NW_QUAD_XY: 471622.80100 5232795.86400
SECONDARY_NE_QUAD_XY: 476352.33000 5232775.02700
SECONDARY_SE_QUAD_XY: 476324.52600 5225829.39600
SECONDARY_SW_QUAD_XY: 471589.43500 5225850.23600
RMSE_XY: 2.19000
IMAGE_SOURCE: BLACK AND WHITE FILM
SOURCE_IMAGE_ID: NAPP 9116-077
SOURCE_IMAGE_DATE: 1996 8 27
SOURCE_DEM_DATE: 1999 0 0
AGENCY: WESTERN MAPPING CENTER (WMC)
PRODUCER: WOOLPERT LLP
PRODUCTION_SYSTEM: INTERGRAPH ISPM, ISIR
COMPRESSION: UNDEFINED
STANDARD_VERSION: 1996 12
METADATA_DATE: 2001 9 27
DATA_FILE_SIZE: 41047864
BYTE_COUNT: 5416
