FILENAME: O4710554.SES.1165301.tif
QUADRANGLE_NAME: UNION SCHOOL
QUADRANT: SE
WEST_LONGITUDE: -105 18 45.00000
EAST_LONGITUDE: -105 15 0.00000
NORTH_LATITUDE: 47 11 15.00000
SOUTH_LATITUDE: 47 7 30.00000
PRODUCTION_DATE: 2001 9 27
RASTER_ORDER: LEFT_RIGHT/TOP_BOTTOM
BAND_ORGANIZATION: SINGLE FILE
BAND_CONTENT: BLACK&WHITE
BAND_CONTENT: UNDEFINED
BAND_CONTENT: UNDEFINED
BITS_PER_PIXEL: 8
SAMPLES_AND_LINES: 5415 7575
HORIZONTAL_DATUM: NAD83
HORIZONTAL_COORDINATE_SYSTEM: UTM
COORDINATE_ZONE: 13
HORIZONTAL_UNITS: meters
HORIZONTAL_RESOLUTION: 1.00000
SECONDARY_HORIZONTAL_DATUM: NAD27
XY_ORIGIN: 475951.00000 5226355.00000
SECONDARY_XY_ORIGIN: 475991.42200 5226135.16300
NATION: US
STATE: MT
NW_QUAD_CORNER_XY: 476325.25800 5226048.01000
NE_QUAD_CORNER_XY: 481060.20400 5226030.96000
SE_QUAD_CORNERY_XY: 481037.98300 5219085.37600
SW_QUAD_CORNER_XY: 476297.48200 5219102.42900
SECONDARY_NW_QUAD_XY: 476324.52600 5225829.39600
SECONDARY_NE_QUAD_XY: 481059.61800 5225812.34500
SECONDARY_SE_QUAD_XY: 481037.39700 5218866.78700
SECONDARY_SW_QUAD_XY: 476296.75000 5218883.84100
RMSE_XY: 2.37000
IMAGE_SOURCE: BLACK AND WHITE FILM
SOURCE_IMAGE_ID: NAPP 9116-195
SOURCE_IMAGE_DATE: 1996 8 27
SOURCE_DEM_DATE: 1999 0 0
AGENCY: WESTERN MAPPING CENTER (WMC)
PRODUCER: WOOLPERT LLP
PRODUCTION_SYSTEM: INTERGRAPH ISPM, ISIR
COMPRESSION: UNDEFINED
STANDARD_VERSION: 1996 12
METADATA_DATE: 2001 9 27
DATA_FILE_SIZE: 41024040
BYTE_COUNT: 5415
