FILENAME: O4710553.NES.1165287.tif
QUADRANGLE_NAME: DIAMOND G BUTTE NW
QUADRANT: NE
WEST_LONGITUDE: -105 26 15.00000
EAST_LONGITUDE: -105 22 30.00000
NORTH_LATITUDE: 47 15 0.00000
SOUTH_LATITUDE: 47 11 15.00000
PRODUCTION_DATE: 2001 9 27
RASTER_ORDER: LEFT_RIGHT/TOP_BOTTOM
BAND_ORGANIZATION: SINGLE FILE
BAND_CONTENT: BLACK&WHITE
BAND_CONTENT: UNDEFINED
BAND_CONTENT: UNDEFINED
BITS_PER_PIXEL: 8
SAMPLES_AND_LINES: 5421 7583
HORIZONTAL_DATUM: NAD83
HORIZONTAL_COORDINATE_SYSTEM: UTM
COORDINATE_ZONE: 13
HORIZONTAL_UNITS: meters
HORIZONTAL_RESOLUTION: 1.00000
SECONDARY_HORIZONTAL_DATUM: NAD27
XY_ORIGIN: 466508.00000 5233346.00000
SECONDARY_XY_ORIGIN: 466548.51700 5233126.14900
NATION: US
STATE: MT
NW_QUAD_CORNER_XY: 466894.30000 5233039.12800
NE_QUAD_CORNER_XY: 471623.68000 5233014.50300
SE_QUAD_CORNERY_XY: 471590.31400 5226068.85000
SW_QUAD_CORNER_XY: 466855.37300 5226093.47800
SECONDARY_NW_QUAD_XY: 466893.27400 5232820.48900
SECONDARY_NE_QUAD_XY: 471622.80100 5232795.86400
SECONDARY_SE_QUAD_XY: 471589.43500 5225850.23600
SECONDARY_SW_QUAD_XY: 466854.34800 5225874.86500
RMSE_XY: 2.67000
IMAGE_SOURCE: BLACK AND WHITE FILM
SOURCE_IMAGE_ID: NAPP 9093-070
SOURCE_IMAGE_DATE: 1996 7 9
SOURCE_IMAGE_ID: NAPP 9093-186
SOURCE_IMAGE_DATE: 1996 7 9
SOURCE_IMAGE_ID: NAPP 9093-188
SOURCE_IMAGE_DATE: 1996 7 9
SOURCE_IMAGE_ID: NAPP 9093-071
SOURCE_IMAGE_DATE: 1996 7 9
SOURCE_DEM_DATE: 1999 0 0
AGENCY: WESTERN MAPPING CENTER (WMC)
PRODUCER: WOOLPERT LLP
PRODUCTION_SYSTEM: INTERGRAPH ISPM, ISIR
COMPRESSION: UNDEFINED
STANDARD_VERSION: 1996 12
METADATA_DATE: 2001 10 13
DATA_FILE_SIZE: 41112864
BYTE_COUNT: 5421
