FILENAME: O4710552.NWS.1165075.tif
QUADRANGLE_NAME: BEARSHACK CREEK
QUADRANT: NW
WEST_LONGITUDE: -105 37 30.00000
EAST_LONGITUDE: -105 33 45.00000
NORTH_LATITUDE: 47 15 0.00000
SOUTH_LATITUDE: 47 11 15.00000
PRODUCTION_DATE: 2001 10 2
RASTER_ORDER: LEFT_RIGHT/TOP_BOTTOM
BAND_ORGANIZATION: SINGLE FILE
BAND_CONTENT: BLACK&WHITE
BAND_CONTENT: UNDEFINED
BAND_CONTENT: UNDEFINED
BITS_PER_PIXEL: 8
SAMPLES_AND_LINES: 5438 7593
HORIZONTAL_DATUM: NAD83
HORIZONTAL_COORDINATE_SYSTEM: UTM
COORDINATE_ZONE: 13
HORIZONTAL_UNITS: meters
HORIZONTAL_RESOLUTION: 1.00000
SECONDARY_HORIZONTAL_DATUM: NAD27
XY_ORIGIN: 452303.00000 5233442.00000
SECONDARY_XY_ORIGIN: 452343.75100 5233222.26100
NATION: US
STATE: MT
NW_QUAD_CORNER_XY: 452706.17900 5233135.73300
NE_QUAD_CORNER_XY: 457435.54900 5233099.74300
SE_QUAD_CORNERY_XY: 457385.50000 5226154.10300
SW_QUAD_CORNER_XY: 452650.56900 5226190.10000
SECONDARY_NW_QUAD_XY: 452704.71400 5232917.09700
SECONDARY_NE_QUAD_XY: 457434.23000 5232881.10600
SECONDARY_SE_QUAD_XY: 457384.18200 5225935.49200
SECONDARY_SW_QUAD_XY: 452649.10400 5225971.48900
RMSE_XY: 2.35000
IMAGE_SOURCE: BLACK AND WHITE FILM
SOURCE_IMAGE_ID: NAPP 9094-148
SOURCE_IMAGE_DATE: 1996 7 9
SOURCE_IMAGE_ID: NAPP 9094-147
SOURCE_IMAGE_DATE: 1996 7 9
SOURCE_DEM_DATE: 1999 0 0
AGENCY: WESTERN MAPPING CENTER (WMC)
PRODUCER: WOOLPERT LLP
PRODUCTION_SYSTEM: INTERGRAPH ISPM, ISIR
COMPRESSION: UNDEFINED
STANDARD_VERSION: 1996 12
METADATA_DATE: 2001 10 15
DATA_FILE_SIZE: 41296172
BYTE_COUNT: 5438
