FILENAME: O4710552.SWS.1165077.tif
QUADRANGLE_NAME: BEARSHACK CREEK
QUADRANT: SW
WEST_LONGITUDE: -105 37 30.00000
EAST_LONGITUDE: -105 33 45.00000
NORTH_LATITUDE: 47 11 15.00000
SOUTH_LATITUDE: 47 7 30.00000
PRODUCTION_DATE: 2001 10 2
RASTER_ORDER: LEFT_RIGHT/TOP_BOTTOM
BAND_ORGANIZATION: SINGLE FILE
BAND_CONTENT: BLACK&WHITE
BAND_CONTENT: UNDEFINED
BAND_CONTENT: UNDEFINED
BITS_PER_PIXEL: 8
SAMPLES_AND_LINES: 5444 7594
HORIZONTAL_DATUM: NAD83
HORIZONTAL_COORDINATE_SYSTEM: UTM
COORDINATE_ZONE: 13
HORIZONTAL_UNITS: meters
HORIZONTAL_RESOLUTION: 1.00000
SECONDARY_HORIZONTAL_DATUM: NAD27
XY_ORIGIN: 452247.00000 5226497.00000
SECONDARY_XY_ORIGIN: 452287.79300 5226277.29200
NATION: US
STATE: MT
NW_QUAD_CORNER_XY: 452650.56900 5226190.10000
NE_QUAD_CORNER_XY: 457385.50000 5226154.10300
SE_QUAD_CORNERY_XY: 457335.50200 5219208.53900
SW_QUAD_CORNER_XY: 452595.01600 5219244.54100
SECONDARY_NW_QUAD_XY: 452649.10400 5225971.48900
SECONDARY_NE_QUAD_XY: 457384.18200 5225935.49200
SECONDARY_SE_QUAD_XY: 457334.18400 5218989.95400
SECONDARY_SW_QUAD_XY: 452593.55100 5219025.95800
RMSE_XY: 2.40000
IMAGE_SOURCE: BLACK AND WHITE FILM
SOURCE_IMAGE_ID: NAPP 9094-150
SOURCE_IMAGE_DATE: 1996 7 9
SOURCE_DEM_DATE: 1999 0 0
AGENCY: WESTERN MAPPING CENTER (WMC)
PRODUCER: WOOLPERT LLP
PRODUCTION_SYSTEM: INTERGRAPH ISPM, ISIR
COMPRESSION: UNDEFINED
STANDARD_VERSION: 1996 12
METADATA_DATE: 2001 10 2
DATA_FILE_SIZE: 41347180
BYTE_COUNT: 5444
