FILENAME: O4710550.SES.1165052.tif
QUADRANGLE_NAME: WATKINS
QUADRANT: SE
WEST_LONGITUDE: -105 48 45.00000
EAST_LONGITUDE: -105 45 0.00000
NORTH_LATITUDE: 47 11 15.00000
SOUTH_LATITUDE: 47 7 30.00000
PRODUCTION_DATE: 2001 10 5
RASTER_ORDER: LEFT_RIGHT/TOP_BOTTOM
BAND_ORGANIZATION: SINGLE FILE
BAND_CONTENT: BLACK&WHITE
BAND_CONTENT: UNDEFINED
BAND_CONTENT: UNDEFINED
BITS_PER_PIXEL: 8
SAMPLES_AND_LINES: 5461 7605
HORIZONTAL_DATUM: NAD83
HORIZONTAL_COORDINATE_SYSTEM: UTM
COORDINATE_ZONE: 13
HORIZONTAL_UNITS: meters
HORIZONTAL_RESOLUTION: 1.00000
SECONDARY_HORIZONTAL_DATUM: NAD27
XY_ORIGIN: 438025.00000 5226627.00000
SECONDARY_XY_ORIGIN: 438066.07100 5226407.42600
NATION: US
STATE: MT
NW_QUAD_CORNER_XY: 438445.80300 5226320.82500
NE_QUAD_CORNER_XY: 443180.72000 5226273.46100
SE_QUAD_CORNERY_XY: 443114.05500 5219327.91600
SW_QUAD_CORNER_XY: 438373.58200 5219375.28800
SECONDARY_NW_QUAD_XY: 438443.89800 5226102.21900
SECONDARY_NE_QUAD_XY: 443178.96200 5226054.85300
SECONDARY_SE_QUAD_XY: 443112.29700 5219109.33500
SECONDARY_SW_QUAD_XY: 438371.67700 5219156.70800
RMSE_XY: 2.60000
IMAGE_SOURCE: BLACK AND WHITE FILM
SOURCE_IMAGE_ID: NAPP 9086-151
SOURCE_IMAGE_DATE: 1996 6 13
SOURCE_DEM_DATE: 1999 0 0
AGENCY: WESTERN MAPPING CENTER (WMC)
PRODUCER: WOOLPERT LLP
PRODUCTION_SYSTEM: INTERGRAPH ISPM, ISIR
COMPRESSION: UNDEFINED
STANDARD_VERSION: 1996 12
METADATA_DATE: 2001 10 5
DATA_FILE_SIZE: 41536366
BYTE_COUNT: 5461
